BEGIN:VCALENDAR
VERSION:2.0
PRODID:-//Livable Buckhead - ECPv6.15.20//NONSGML v1.0//EN
CALSCALE:GREGORIAN
METHOD:PUBLISH
X-WR-CALNAME:Livable Buckhead
X-ORIGINAL-URL:https://livablebuckhead.com
X-WR-CALDESC:Events for Livable Buckhead
REFRESH-INTERVAL;VALUE=DURATION:PT1H
X-Robots-Tag:noindex
X-PUBLISHED-TTL:PT1H
BEGIN:VTIMEZONE
TZID:America/New_York
BEGIN:DAYLIGHT
TZOFFSETFROM:-0500
TZOFFSETTO:-0400
TZNAME:EDT
DTSTART:20210314T070000
END:DAYLIGHT
BEGIN:STANDARD
TZOFFSETFROM:-0400
TZOFFSETTO:-0500
TZNAME:EST
DTSTART:20211107T060000
END:STANDARD
BEGIN:DAYLIGHT
TZOFFSETFROM:-0500
TZOFFSETTO:-0400
TZNAME:EDT
DTSTART:20220313T070000
END:DAYLIGHT
BEGIN:STANDARD
TZOFFSETFROM:-0400
TZOFFSETTO:-0500
TZNAME:EST
DTSTART:20221106T060000
END:STANDARD
BEGIN:DAYLIGHT
TZOFFSETFROM:-0500
TZOFFSETTO:-0400
TZNAME:EDT
DTSTART:20230312T070000
END:DAYLIGHT
BEGIN:STANDARD
TZOFFSETFROM:-0400
TZOFFSETTO:-0500
TZNAME:EST
DTSTART:20231105T060000
END:STANDARD
BEGIN:DAYLIGHT
TZOFFSETFROM:-0500
TZOFFSETTO:-0400
TZNAME:EDT
DTSTART:20240310T070000
END:DAYLIGHT
BEGIN:STANDARD
TZOFFSETFROM:-0400
TZOFFSETTO:-0500
TZNAME:EST
DTSTART:20241103T060000
END:STANDARD
END:VTIMEZONE
BEGIN:VEVENT
DTSTART;TZID=America/New_York:20230906T183000
DTEND;TZID=America/New_York:20230906T193000
DTSTAMP:20260420T055433
CREATED:20230727T182346Z
LAST-MODIFIED:20230727T182346Z
UID:10002068-1694025000-1694028600@livablebuckhead.com
SUMMARY:Yoga at Uptown
DESCRIPTION:Join Priscila Baptista as she guides new and experienced yogis alike in finding their ‘inner Warrior’. Bring your own mat and enjoy this free moment of zen along with free parking in the Garson or City Center Parking Deck when you register and check-in for class. MARTA’s Lindbergh Station is also just steps away from class for easy transit access. \nNew to our yoga series? Sign up for your Namaste Card and earn some Uptown “swag” for this 2023 season! \nMore things to know: \nFor July and August we will hold class in The Atrium in the Towers at Uptown. As always\, be sure to register so we can communicate any changes or updates! Best parking for this location is in the City Center Deck (596 Lindbergh Drive). Entry to The Atrium will be on Main Street\, just across from Tongue & Groove. \nPlan ahead! Please note that entry to class ends at 6:45pm and only if space is available. Class starts promptly at 6:30pm.
URL:https://livablebuckhead.com/event/yoga-at-uptown/2023-09-06/
LOCATION:Uptown Atlanta: The Lawn\, 500 Lindbergh Drive NE\, Atlanta\, GA\, 30324\, United States
CATEGORIES:Community
ATTACH;FMTTYPE=image/png:https://livablebuckhead.com/wp-content/uploads/2023/07/uptown-yoga.png
END:VEVENT
BEGIN:VEVENT
DTSTART;TZID=America/New_York:20230830T183000
DTEND;TZID=America/New_York:20230830T193000
DTSTAMP:20260420T055433
CREATED:20230727T182346Z
LAST-MODIFIED:20230727T182346Z
UID:10002067-1693420200-1693423800@livablebuckhead.com
SUMMARY:Yoga at Uptown
DESCRIPTION:Join Priscila Baptista as she guides new and experienced yogis alike in finding their ‘inner Warrior’. Bring your own mat and enjoy this free moment of zen along with free parking in the Garson or City Center Parking Deck when you register and check-in for class. MARTA’s Lindbergh Station is also just steps away from class for easy transit access. \nNew to our yoga series? Sign up for your Namaste Card and earn some Uptown “swag” for this 2023 season! \nMore things to know: \nFor July and August we will hold class in The Atrium in the Towers at Uptown. As always\, be sure to register so we can communicate any changes or updates! Best parking for this location is in the City Center Deck (596 Lindbergh Drive). Entry to The Atrium will be on Main Street\, just across from Tongue & Groove. \nPlan ahead! Please note that entry to class ends at 6:45pm and only if space is available. Class starts promptly at 6:30pm.
URL:https://livablebuckhead.com/event/yoga-at-uptown/2023-08-30/
LOCATION:Uptown Atlanta: The Lawn\, 500 Lindbergh Drive NE\, Atlanta\, GA\, 30324\, United States
CATEGORIES:Community
ATTACH;FMTTYPE=image/png:https://livablebuckhead.com/wp-content/uploads/2023/07/uptown-yoga.png
END:VEVENT
BEGIN:VEVENT
DTSTART;TZID=America/New_York:20230823T183000
DTEND;TZID=America/New_York:20230823T193000
DTSTAMP:20260420T055433
CREATED:20230727T182346Z
LAST-MODIFIED:20230727T182346Z
UID:10002066-1692815400-1692819000@livablebuckhead.com
SUMMARY:Yoga at Uptown
DESCRIPTION:Join Priscila Baptista as she guides new and experienced yogis alike in finding their ‘inner Warrior’. Bring your own mat and enjoy this free moment of zen along with free parking in the Garson or City Center Parking Deck when you register and check-in for class. MARTA’s Lindbergh Station is also just steps away from class for easy transit access. \nNew to our yoga series? Sign up for your Namaste Card and earn some Uptown “swag” for this 2023 season! \nMore things to know: \nFor July and August we will hold class in The Atrium in the Towers at Uptown. As always\, be sure to register so we can communicate any changes or updates! Best parking for this location is in the City Center Deck (596 Lindbergh Drive). Entry to The Atrium will be on Main Street\, just across from Tongue & Groove. \nPlan ahead! Please note that entry to class ends at 6:45pm and only if space is available. Class starts promptly at 6:30pm.
URL:https://livablebuckhead.com/event/yoga-at-uptown/2023-08-23/
LOCATION:Uptown Atlanta: The Lawn\, 500 Lindbergh Drive NE\, Atlanta\, GA\, 30324\, United States
CATEGORIES:Community
ATTACH;FMTTYPE=image/png:https://livablebuckhead.com/wp-content/uploads/2023/07/uptown-yoga.png
END:VEVENT
BEGIN:VEVENT
DTSTART;TZID=America/New_York:20230816T183000
DTEND;TZID=America/New_York:20230816T193000
DTSTAMP:20260420T055433
CREATED:20230727T182346Z
LAST-MODIFIED:20230727T182346Z
UID:10002065-1692210600-1692214200@livablebuckhead.com
SUMMARY:Yoga at Uptown
DESCRIPTION:Join Priscila Baptista as she guides new and experienced yogis alike in finding their ‘inner Warrior’. Bring your own mat and enjoy this free moment of zen along with free parking in the Garson or City Center Parking Deck when you register and check-in for class. MARTA’s Lindbergh Station is also just steps away from class for easy transit access. \nNew to our yoga series? Sign up for your Namaste Card and earn some Uptown “swag” for this 2023 season! \nMore things to know: \nFor July and August we will hold class in The Atrium in the Towers at Uptown. As always\, be sure to register so we can communicate any changes or updates! Best parking for this location is in the City Center Deck (596 Lindbergh Drive). Entry to The Atrium will be on Main Street\, just across from Tongue & Groove. \nPlan ahead! Please note that entry to class ends at 6:45pm and only if space is available. Class starts promptly at 6:30pm.
URL:https://livablebuckhead.com/event/yoga-at-uptown/2023-08-16/
LOCATION:Uptown Atlanta: The Lawn\, 500 Lindbergh Drive NE\, Atlanta\, GA\, 30324\, United States
CATEGORIES:Community
ATTACH;FMTTYPE=image/png:https://livablebuckhead.com/wp-content/uploads/2023/07/uptown-yoga.png
END:VEVENT
BEGIN:VEVENT
DTSTART;TZID=America/New_York:20230812T180000
DTEND;TZID=America/New_York:20230812T220000
DTSTAMP:20260420T055433
CREATED:20230524T134944Z
LAST-MODIFIED:20230524T134944Z
UID:10001632-1691863200-1691877600@livablebuckhead.com
SUMMARY:Movies on The Lawn presents Ferris Bueller’s Day Off
DESCRIPTION:Uptown Atlanta\, the 47-acre mixed-use destination surrounding the Lindbergh MARTA station\, today announces the official summer lineup for Movies on The Lawn. As a part of Uptown’s Signature Events Series\, Movies on The Lawn will include free outdoor movie screenings with themed food and beverage selections from Uptown Test Kitchen’s Chow À La Carte chefs\, as well as a variety of crafts\, giveaways\, unique performances and more. \nMovies on The Lawn presents Ferris Bueller’s Day Off: On Saturday\, August 12\, Uptown will celebrate National Lazy Day and the 35th anniversary of Ferris Bueller’s Day Off with a special screening of the famed American teen comedy. The event will feature an 80s-themed dance party with a live DJ playing retro tunes. The Chow À La Carte chefs will offer delicious food options inspired by the movie. Plus\, attendees will have a chance to learn about Atlanta’s pedestrian paths and trails in partnership with the Atlanta BeltLine – since wandering the trails is a perfect way to spend a lazy day in the city. Pre-movie activities will begin at 4 p.m. with the movie starting at 8 p.m. \nMovies on The Lawn is free and open to the public\, but registration is encouraged via Eventbrite. Costs for food\, beverage and vendor goods will vary. Event attendees are encouraged to bring blankets and chairs. Free parking is available in the Garson Deck located next to the Lawn and is situated just across the street from the Lindbergh MARTA station for convenient transportation. \nFor the latest news\, project updates and events schedule\, follow Uptown on Facebook and Instagram at @uptownatlanta\, follow Uptown on eventbrite or visit https://uptownatlanta.com.
URL:https://livablebuckhead.com/event/movies-on-the-lawn-presents-ferris-buellers-day-off/
LOCATION:Uptown Atlanta: The Lawn\, 500 Lindbergh Drive NE\, Atlanta\, GA\, 30324\, United States
CATEGORIES:Community
ORGANIZER;CN="Livable Buckhead":MAILTO:info@livablebuckhead.org
END:VEVENT
BEGIN:VEVENT
DTSTART;TZID=America/New_York:20230809T183000
DTEND;TZID=America/New_York:20230809T193000
DTSTAMP:20260420T055433
CREATED:20230727T182346Z
LAST-MODIFIED:20230727T182346Z
UID:10002064-1691605800-1691609400@livablebuckhead.com
SUMMARY:Yoga at Uptown
DESCRIPTION:Join Priscila Baptista as she guides new and experienced yogis alike in finding their ‘inner Warrior’. Bring your own mat and enjoy this free moment of zen along with free parking in the Garson or City Center Parking Deck when you register and check-in for class. MARTA’s Lindbergh Station is also just steps away from class for easy transit access. \nNew to our yoga series? Sign up for your Namaste Card and earn some Uptown “swag” for this 2023 season! \nMore things to know: \nFor July and August we will hold class in The Atrium in the Towers at Uptown. As always\, be sure to register so we can communicate any changes or updates! Best parking for this location is in the City Center Deck (596 Lindbergh Drive). Entry to The Atrium will be on Main Street\, just across from Tongue & Groove. \nPlan ahead! Please note that entry to class ends at 6:45pm and only if space is available. Class starts promptly at 6:30pm.
URL:https://livablebuckhead.com/event/yoga-at-uptown/2023-08-09/
LOCATION:Uptown Atlanta: The Lawn\, 500 Lindbergh Drive NE\, Atlanta\, GA\, 30324\, United States
CATEGORIES:Community
ATTACH;FMTTYPE=image/png:https://livablebuckhead.com/wp-content/uploads/2023/07/uptown-yoga.png
END:VEVENT
BEGIN:VEVENT
DTSTART;TZID=America/New_York:20230802T183000
DTEND;TZID=America/New_York:20230802T193000
DTSTAMP:20260420T055433
CREATED:20230727T182346Z
LAST-MODIFIED:20230727T182346Z
UID:10002063-1691001000-1691004600@livablebuckhead.com
SUMMARY:Yoga at Uptown
DESCRIPTION:Join Priscila Baptista as she guides new and experienced yogis alike in finding their ‘inner Warrior’. Bring your own mat and enjoy this free moment of zen along with free parking in the Garson or City Center Parking Deck when you register and check-in for class. MARTA’s Lindbergh Station is also just steps away from class for easy transit access. \nNew to our yoga series? Sign up for your Namaste Card and earn some Uptown “swag” for this 2023 season! \nMore things to know: \nFor July and August we will hold class in The Atrium in the Towers at Uptown. As always\, be sure to register so we can communicate any changes or updates! Best parking for this location is in the City Center Deck (596 Lindbergh Drive). Entry to The Atrium will be on Main Street\, just across from Tongue & Groove. \nPlan ahead! Please note that entry to class ends at 6:45pm and only if space is available. Class starts promptly at 6:30pm.
URL:https://livablebuckhead.com/event/yoga-at-uptown/2023-08-02/
LOCATION:Uptown Atlanta: The Lawn\, 500 Lindbergh Drive NE\, Atlanta\, GA\, 30324\, United States
CATEGORIES:Community
ATTACH;FMTTYPE=image/png:https://livablebuckhead.com/wp-content/uploads/2023/07/uptown-yoga.png
END:VEVENT
BEGIN:VEVENT
DTSTART;TZID=America/New_York:20230715T180000
DTEND;TZID=America/New_York:20230715T220000
DTSTAMP:20260420T055433
CREATED:20230524T134528Z
LAST-MODIFIED:20230524T134750Z
UID:10001631-1689444000-1689458400@livablebuckhead.com
SUMMARY:Movies on The Lawn presents Jaws
DESCRIPTION:Uptown Atlanta\, the 47-acre mixed-use destination surrounding the Lindbergh MARTA station\, today announces the official summer lineup for Movies on The Lawn. As a part of Uptown’s Signature Events Series\, Movies on The Lawn will include free outdoor movie screenings with themed food and beverage selections from Uptown Test Kitchen’s Chow À La Carte chefs\, as well as a variety of crafts\, giveaways\, unique performances and more. \nMovies on The Lawn presents Jaws: In celebration of National Shark Awareness Day\, Uptown will host a special screening of the classic thriller Jaws on Saturday\, July 15. All event attendees will have a chance to win tickets to SHARKS! Predators of the Deep at the Georgia Aquarium where they can learn more about these fascinating creatures. The Chow À La Carte chefs will be popping up on The Lawn and serving shark-themed nibbles and more. Pre-movie activities will begin at 6 p.m. with the movie starting at 8 p.m. \nMovies on The Lawn is free and open to the public\, but registration is encouraged via Eventbrite. Costs for food\, beverage and vendor goods will vary. Event attendees are encouraged to bring blankets and chairs. Free parking is available in the Garson Deck located next to the Lawn and is situated just across the street from the Lindbergh MARTA station for convenient transportation. \nFor the latest news\, project updates and events schedule\, follow Uptown on Facebook and Instagram at @uptownatlanta\, follow Uptown on eventbrite or visit https://uptownatlanta.com.
URL:https://livablebuckhead.com/event/movies-on-the-lawn-presents-jaws/
LOCATION:Uptown Atlanta: The Lawn\, 500 Lindbergh Drive NE\, Atlanta\, GA\, 30324\, United States
CATEGORIES:Community
ORGANIZER;CN="Livable Buckhead":MAILTO:info@livablebuckhead.org
END:VEVENT
BEGIN:VEVENT
DTSTART;TZID=America/New_York:20230603T180000
DTEND;TZID=America/New_York:20230603T220000
DTSTAMP:20260420T055433
CREATED:20230524T134343Z
LAST-MODIFIED:20230524T134738Z
UID:10001630-1685815200-1685829600@livablebuckhead.com
SUMMARY:Movies on The Lawn presents Jurassic World
DESCRIPTION:Uptown Atlanta\, the 47-acre mixed-use destination surrounding the Lindbergh MARTA station\, today announces the official summer lineup for Movies on The Lawn. As a part of Uptown’s Signature Events Series\, Movies on The Lawn will include free outdoor movie screenings with themed food and beverage selections from Uptown Test Kitchen’s Chow À La Carte chefs\, as well as a variety of crafts\, giveaways\, unique performances and more. \nMovies on The Lawn presents Jurassic World: Movies on The Lawn kicks off on Saturday\, June 3\, with a special screening of Jurassic World. In celebration of National Dinosaur Day and the 35th anniversary of the Jurassic Park franchise\, the event will feature music\, dancing dinosaur appearances and a chance to win tickets to the Fernbank Museum of Natural History. The Chow À La Carte chefs will be popping up on The Lawn and serving themed cuisine\, including dino bites\, pterodactyl wings and more. Pre-movie activities will begin at 6 p.m. with the movie starting at 8 p.m. \nMovies on The Lawn is free and open to the public\, but registration is encouraged via Eventbrite. Costs for food\, beverage and vendor goods will vary. Event attendees are encouraged to bring blankets and chairs. Free parking is available in the Garson Deck located next to the Lawn and is situated just across the street from the Lindbergh MARTA station for convenient transportation. \nFor the latest news\, project updates and events schedule\, follow Uptown on Facebook and Instagram at @uptownatlanta\, follow Uptown on eventbrite or visit https://uptownatlanta.com.
URL:https://livablebuckhead.com/event/movies-on-the-lawn-presents-jurassic-world/
LOCATION:Uptown Atlanta: The Lawn\, 500 Lindbergh Drive NE\, Atlanta\, GA\, 30324\, United States
CATEGORIES:Community
ORGANIZER;CN="Livable Buckhead":MAILTO:info@livablebuckhead.org
END:VEVENT
BEGIN:VEVENT
DTSTART;TZID=America/New_York:20221028T190000
DTEND;TZID=America/New_York:20221028T213000
DTSTAMP:20260420T055433
CREATED:20221025T155932Z
LAST-MODIFIED:20221025T155932Z
UID:10002026-1666983600-1666992600@livablebuckhead.com
SUMMARY:Spooky Film Fun on The Lawn - Uptown
DESCRIPTION:The Sanderson sisters return to the all new Lawn at Uptown this Halloween season for a free screening of the original Hocus Pocus! \nStop by the Uptown check-in table for your own witch hat and other fun Halloween crafts to enjoy before and during the movie. (while supplies last!) \nBe sure to order your to-go dining from Uptown restaurants like 26 Thai Kitchen & Bar or Longhorn Steakhouse and spread out your blanket and chairs for this fun-filled movie under the stars. \nAs always\, free parking vouchers are available for the Garson and City Center Parking Decks OR ride MARTA to the Lindbergh Center Station and The Lawn is just steps away. \nWe hope to see you there!
URL:https://livablebuckhead.com/event/spooky-film-fun-on-the-lawn-uptown/
LOCATION:Uptown Atlanta: The Lawn\, 500 Lindbergh Drive NE\, Atlanta\, GA\, 30324\, United States
CATEGORIES:Arts and Culture,Community
ATTACH;FMTTYPE=image/jpeg:https://livablebuckhead.com/wp-content/uploads/2022/10/312881599_556906609768338_3552507228746948986_n.jpg
ORGANIZER;CN="Livable Buckhead":MAILTO:info@livablebuckhead.org
END:VEVENT
BEGIN:VEVENT
DTSTART;TZID=America/New_York:20221015T100000
DTEND;TZID=America/New_York:20221015T200000
DTSTAMP:20260420T055433
CREATED:20220928T200510Z
LAST-MODIFIED:20220928T201742Z
UID:10001616-1665828000-1665864000@livablebuckhead.com
SUMMARY:Uptown Atlanta: “Live! on The Lawn”
DESCRIPTION:Uptown Atlanta Celebrates Opening of Community Park with “Live! on The Lawn” on Oct. 15 \nCommunity invited to enjoy an all-day lineup of free\, family experiences at the reimagined greenspace \nA new community park. 108 sun salutations. Chef-driven tastes from around the world. On Oct. 15\, experience all of this and more at Uptown Atlanta\, the 47-acre mixed-use district surrounding the Lindbergh MARTA Station\, in celebration of the opening of “The Lawn\,” a new community greenspace between Midtown and Buckhead. The park comes as part of Rubenstein Partners’\, L.P. (together with its affiliates\, “Rubenstein”) transformation of Uptown into a vibrant and highly connected mixed-use destination. \nOn Saturday\, Oct. 15\, Uptown invites the community to celebrate the new park with Live! on The Lawn\, an all-day extravaganza featuring a lineup of family-friendly events and activities at the neighborhood’s newest greenspace. All of the activities are free and open to the public\, and more details are outlined below. \n· Yoga and Sound Bath 10 to 11 a.m. – Join Uptown yoga instructor Priscila Baptista and flow through 108 sun salutations\, symbolizing The Lawn’s new beginning. Namaste after class for a healing sound bath led by Flavia Thais. All experience levels are welcome and yogis are encouraged to bring their own mats. \n· Chefs on The Lawn\, 12p.m. to 7 p.m. – Enjoy a globally inspired culinary experience on The Lawn\, with culturally centered concepts including El Gordo\, an authentic and modern taqueria opening at Uptown next year. The lineup also includes Humo Cuisine\, Gorditas ATL\, Flow Coffee\, Ba+Me; Cheesecake Anyone\, Shamiso Foods\, Manny’s Juice Bar\, Gourmet Street Foods and Leftie Lee’s. Cost of food and beverage items will vary. \n· Children’s Performers\, 11 a.m.  to 2 p.m. “Fun with Alyssa” and Alliance Theatre’s Education Department will entertain and engage our kiddos. \n· DIY Crafts\, 1 to 4 p.m. – Kiddos can get into the fall spirit with a variety of crafts\, including pumpkin decorating\, personalizing your own tote/trick or treat bag\, coloring Day of the Dead masks in celebration of National Hispanic Heritage Month and more. \n· Plein Air Art\, 2 to 5 p.m. – Guests can watch in wonder as The Lawn comes to life from Virginia Highland Plein Air Painters. Live painters will participate in the French practice of painting “en plein air” to capture the natural beauty of the lush greenspace. Feel free to BYO sketch pad and join in! \n· Live Music\, 3 to 4 p.m. – Jam out with a live musical performance. \n· Comedy Show\, 4 to 5 p.m. – Guests will laugh out loud as the hilarious troupe from Whole World Improv takes the stage. \n· Live Music\, 5 to 8 p.m. – Dance the night away with groovy tunes. \nThroughout the day\, roaming performers from The Off Centered Project will bring excitement and entertainment to The Lawn. Additionally\, the community can experience Instagrammable balloon installations and custom balloon art for kids from Amplified Balloons\, as well an interactive chalk exhibit from sidewalk chalk artist Chelsey Austin. \n“The reopening of The Lawn is an important milestone for Uptown that we can’t wait to share with the community\,” said Mahesh Mani\, senior vice president of asset management for Rubenstein. “Our vision for Uptown has always been to create a destination infused with energy and unique experiences – and The Lawn does exactly that. As one of the largest community greenspaces in the area\, we’re looking forward to welcoming the nearby residents\, commuters and office tenants to their new park.” \nAfter sitting underutilized for decades\, Rubenstein worked with landscape architect ASD|SKY to reimagine The Lawn. Among the upgrades\, The Lawn now includes the addition of a paved “goat path” through the greenspace\, which was introduced after seeing the route the community naturally took through the park. Notably\, The Lawn features connectivity to the city’s major pedestrian trails\, such as PATH400\, Atlanta BeltLine and the South Fork Trail. The new PATH400 connection runs adjacent to The Lawn and is now open\, with the BeltLine connection coming soon. \nSince launching redevelopment efforts\, Rubenstein has activated Uptown with dozens of community events\, including gnome picnics\, llama pajama parties\, artist markets and Uptown’s Signature Events Series\, featuring free monthly comedy performances\, weekly yoga flows and seasonal movie screenings. As the construction nears completion\, significant enhancements have taken shape on property\, such as a revitalized Main Street designed for outdoor patios\, modernized building facades\, a new office atrium outfitted with state-of-the-art amenities\, and more. The redevelopment will be complete in Spring 2023. \nEarlier this year\, Rubenstein announced the first restaurants for Uptown’s globally inspired culinary mix: El Gordo and Bene Korean. El Gordo combines the authenticity of a classic taqueria with a modern\, lively setting and will offer a variety of street tacos\, while Bene Korean will introduce an upscale\, tabletop Korean barbecue experience. Opening next spring along Main Street\, the authentic\, chef-driven concepts will join community favorite 26 Thai Kitchen and Bar and create a globally inspired culinary lineup. \nOnce completed\, Uptown will encompass nearly one million square feet of office space\, 100\,000 square feet of retail and a variety of community gathering spaces to bring the best of Atlanta together. For the latest news and project updates\, follow Uptown on Facebook and Instagram at @uptownatlanta\, or visit https://uptownatlanta.com. \n### \nAbout Uptown \nUptown is a hyper-accessible\, 47-acre mixed-use community that brings the best of Atlanta together. As the largest mixed-use development in Atlanta to connect directly with MARTA and the city’s major pedestrian trails\, such as the forthcoming Atlanta BeltLine and the South Fork Trail\, Uptown combines 110\,000 square feet of street-level retail\, greenspace and art and one million square feet of Class A office space. Uptown is being redeveloped by private real estate investment management and advisory firm Rubenstein Partners\, LP (Rubenstein). Redevelopment plans include upgrading building facades\, streetscapes and greenspaces; activating the property with local retail\, artist galleries\, restaurants and events; and attracting office tenants who value working in a vibrant mixed-use environment. Atlanta has a Downtown\, a Midtown\, a Buckhead\, and now\, finally\, an Uptown. To learn more about Uptown\, visit uptownatlanta.com and follow @UptownAtlanta on Facebook and Instagram.
URL:https://livablebuckhead.com/event/uptown-atlanta-live-on-the-lawn/
LOCATION:Uptown Atlanta: The Lawn\, 500 Lindbergh Drive NE\, Atlanta\, GA\, 30324\, United States
CATEGORIES:Community
ATTACH;FMTTYPE=image/png:https://livablebuckhead.com/wp-content/uploads/2022/09/uptopwn.png
END:VEVENT
END:VCALENDAR