BEGIN:VCALENDAR
VERSION:2.0
PRODID:-//Livable Buckhead - ECPv6.15.20//NONSGML v1.0//EN
CALSCALE:GREGORIAN
METHOD:PUBLISH
X-ORIGINAL-URL:https://livablebuckhead.com
X-WR-CALDESC:Events for Livable Buckhead
REFRESH-INTERVAL;VALUE=DURATION:PT1H
X-Robots-Tag:noindex
X-PUBLISHED-TTL:PT1H
BEGIN:VTIMEZONE
TZID:America/New_York
BEGIN:DAYLIGHT
TZOFFSETFROM:-0500
TZOFFSETTO:-0400
TZNAME:EDT
DTSTART:20240310T070000
END:DAYLIGHT
BEGIN:STANDARD
TZOFFSETFROM:-0400
TZOFFSETTO:-0500
TZNAME:EST
DTSTART:20241103T060000
END:STANDARD
BEGIN:DAYLIGHT
TZOFFSETFROM:-0500
TZOFFSETTO:-0400
TZNAME:EDT
DTSTART:20250309T070000
END:DAYLIGHT
BEGIN:STANDARD
TZOFFSETFROM:-0400
TZOFFSETTO:-0500
TZNAME:EST
DTSTART:20251102T060000
END:STANDARD
BEGIN:DAYLIGHT
TZOFFSETFROM:-0500
TZOFFSETTO:-0400
TZNAME:EDT
DTSTART:20260308T070000
END:DAYLIGHT
BEGIN:STANDARD
TZOFFSETFROM:-0400
TZOFFSETTO:-0500
TZNAME:EST
DTSTART:20261101T060000
END:STANDARD
END:VTIMEZONE
BEGIN:VEVENT
DTSTART;VALUE=DATE:20251118
DTEND;VALUE=DATE:20251216
DTSTAMP:20260420T122939
CREATED:20251118T213935Z
LAST-MODIFIED:20251118T213935Z
UID:10002356-1763424000-1765843199@livablebuckhead.com
SUMMARY:Postino Food Drive
DESCRIPTION:Postino WineCafé is rallying their guests to fight food insecurity in their communities through a Holiday Food Drive taking place at all locations nationwide. Guests are invited to join the effort by donating canned food items from now until December 15\, helping to ensure more families have food on the table this winter. Donations will go towards Solidarity Sandy Springs\, which serves up to 700 families per week. Postino is staying true to its mission about fostering connection; gathering people around good food and good wine\, and this initiative extends that same spirit of togetherness beyond the table.
URL:https://livablebuckhead.com/event/postino-food-drive/
LOCATION:Postino\, 3655 Rosewell Rd NE Ste 300\, Atlanra\, 30342\, United States
CATEGORIES:Community
ATTACH;FMTTYPE=image/png:https://livablebuckhead.com/wp-content/uploads/2025/11/screenshot-2025-11-17-at-3.01.24-pm.png
ORGANIZER;CN="Livable Buckhead":MAILTO:info@livablebuckhead.org
END:VEVENT
END:VCALENDAR