BEGIN:VCALENDAR
VERSION:2.0
PRODID:-//Livable Buckhead - ECPv6.15.20//NONSGML v1.0//EN
CALSCALE:GREGORIAN
METHOD:PUBLISH
X-ORIGINAL-URL:https://livablebuckhead.com
X-WR-CALDESC:Events for Livable Buckhead
REFRESH-INTERVAL;VALUE=DURATION:PT1H
X-Robots-Tag:noindex
X-PUBLISHED-TTL:PT1H
BEGIN:VTIMEZONE
TZID:America/New_York
BEGIN:DAYLIGHT
TZOFFSETFROM:-0500
TZOFFSETTO:-0400
TZNAME:EDT
DTSTART:20250309T070000
END:DAYLIGHT
BEGIN:STANDARD
TZOFFSETFROM:-0400
TZOFFSETTO:-0500
TZNAME:EST
DTSTART:20251102T060000
END:STANDARD
BEGIN:DAYLIGHT
TZOFFSETFROM:-0500
TZOFFSETTO:-0400
TZNAME:EDT
DTSTART:20260308T070000
END:DAYLIGHT
BEGIN:STANDARD
TZOFFSETFROM:-0400
TZOFFSETTO:-0500
TZNAME:EST
DTSTART:20261101T060000
END:STANDARD
BEGIN:DAYLIGHT
TZOFFSETFROM:-0500
TZOFFSETTO:-0400
TZNAME:EDT
DTSTART:20270314T070000
END:DAYLIGHT
BEGIN:STANDARD
TZOFFSETFROM:-0400
TZOFFSETTO:-0500
TZNAME:EST
DTSTART:20271107T060000
END:STANDARD
END:VTIMEZONE
BEGIN:VEVENT
DTSTART;VALUE=DATE:20260328
DTEND;VALUE=DATE:20260329
DTSTAMP:20260420T185348
CREATED:20260325T144736Z
LAST-MODIFIED:20260325T144736Z
UID:10002511-1774656000-1774742399@livablebuckhead.com
SUMMARY:The exhale Experience: Atlanta’s New “Third Space” for Wellness - March 28 Retreat
DESCRIPTION:As wellness continues to evolve beyond solo workouts and self-care routines\, a new trend is taking shape: community-driven wellness experiences happening close to home. Think less destination retreat\, more intentional\, in-your-own-backyard reset. \nOn March 28\, newly upgraded exhale® Atlanta is bringing this shift to life with The exhale® Experience\, a thoughtfully curated\, one-day retreat created in partnership with La Fleur Sauvage. Designed as a modern “third space” for wellness\, the experience blends movement\, mindfulness and meaningful connection.  \nView images and videos from last year’s retreat HERE.  \nThe day is anchored by immersive\, community-focused programming\, including: \n\nA restorative sound bath and guided journaling workshop led by entrepreneur and wellness expert Shayla Herndon-Edmunds\, centered on manifestation and personal intention-setting\nAn intimate fireside chat with actress\, producer and philanthropist Keshia Knight Pulliam\, exploring reflection\, growth and how we show up in our daily lives\nA choice of one 60-minute massage or facial\nAn intimate\, family-style lunch at Ashland\, located within Loews Atlanta Hotel\nA closing circle and happy hour designed to foster connection\, conversation and a sense of shared experience\n\nTickets for this retreat can be purchased HERE. For more information\, follow exhale® and La Fleur Sauvage on Instagram at @exhale.fitspalife and @lafleursauvagecollective.    \nAs more consumers seek connection\, ritual and deeper meaning in their wellness routines\, experiences like this reflect a broader cultural shift toward accessible retreats\, group healing and wellness as a social practice\, not just a solo pursuit. 
URL:https://livablebuckhead.com/event/the-exhale-experience-atlantas-new-third-space-for-wellness-march-28-retreat/
LOCATION:exhale Spa Midtown Atlanta\, 1065 Peachtree St NE NE\,\, Atlanta\, GA\, 30309\, United States
CATEGORIES:Community
ATTACH;FMTTYPE=image/jpeg:https://livablebuckhead.com/wp-content/uploads/2026/03/exhale-atl-x-la-fleur-sauvage-atlanta-retreat-1.jpg
END:VEVENT
END:VCALENDAR