BEGIN:VCALENDAR
VERSION:2.0
PRODID:-//Livable Buckhead - ECPv6.15.20//NONSGML v1.0//EN
CALSCALE:GREGORIAN
METHOD:PUBLISH
X-WR-CALNAME:Livable Buckhead
X-ORIGINAL-URL:https://livablebuckhead.com
X-WR-CALDESC:Events for Livable Buckhead
REFRESH-INTERVAL;VALUE=DURATION:PT1H
X-Robots-Tag:noindex
X-PUBLISHED-TTL:PT1H
BEGIN:VTIMEZONE
TZID:America/New_York
BEGIN:DAYLIGHT
TZOFFSETFROM:-0500
TZOFFSETTO:-0400
TZNAME:EDT
DTSTART:20200308T070000
END:DAYLIGHT
BEGIN:STANDARD
TZOFFSETFROM:-0400
TZOFFSETTO:-0500
TZNAME:EST
DTSTART:20201101T060000
END:STANDARD
BEGIN:DAYLIGHT
TZOFFSETFROM:-0500
TZOFFSETTO:-0400
TZNAME:EDT
DTSTART:20210314T070000
END:DAYLIGHT
BEGIN:STANDARD
TZOFFSETFROM:-0400
TZOFFSETTO:-0500
TZNAME:EST
DTSTART:20211107T060000
END:STANDARD
BEGIN:DAYLIGHT
TZOFFSETFROM:-0500
TZOFFSETTO:-0400
TZNAME:EDT
DTSTART:20220313T070000
END:DAYLIGHT
BEGIN:STANDARD
TZOFFSETFROM:-0400
TZOFFSETTO:-0500
TZNAME:EST
DTSTART:20221106T060000
END:STANDARD
BEGIN:DAYLIGHT
TZOFFSETFROM:-0500
TZOFFSETTO:-0400
TZNAME:EDT
DTSTART:20230312T070000
END:DAYLIGHT
BEGIN:STANDARD
TZOFFSETFROM:-0400
TZOFFSETTO:-0500
TZNAME:EST
DTSTART:20231105T060000
END:STANDARD
BEGIN:DAYLIGHT
TZOFFSETFROM:-0500
TZOFFSETTO:-0400
TZNAME:EDT
DTSTART:20240310T070000
END:DAYLIGHT
BEGIN:STANDARD
TZOFFSETFROM:-0400
TZOFFSETTO:-0500
TZNAME:EST
DTSTART:20241103T060000
END:STANDARD
END:VTIMEZONE
BEGIN:VEVENT
DTSTART;TZID=America/New_York:20231029T130000
DTEND;TZID=America/New_York:20231029T153000
DTSTAMP:20260419T224703
CREATED:20231003T134300Z
LAST-MODIFIED:20231003T134300Z
UID:10001651-1698584400-1698593400@livablebuckhead.com
SUMMARY:The Great Trick or Treat @ Atlanta History Center
DESCRIPTION:Join the Atlanta History Center for their annual family fall trick-or-treat event in Goizueta Gardens. Come stroll through their gardens with your little ones to gather early Halloween candy and enjoy entertainment including decorations and festivities.  AHC members and their guests can enjoy snacks and a movie in Woodruff Auditorium starting at 1:30pm. \nFamily friendly costumes are encouraged. No historical or religious costumes permitted. For more information please see our rules of civility. \nThe suggested age of participants is 10 and under. Children 1 and under are free with the purchase of adult tickets. \nEntrance for event at Arbor Gate in between the museum and McElreath Hall. \nTickets are $10 for adults and children\, $5 for members. Free for Insiders.
URL:https://livablebuckhead.com/event/the-great-trick-or-treat-atlanta-history-center/
LOCATION:Atlanta History Center\, 130 West Paces Ferry Rd NW\, Atlanta\, GA Georgia\, 30305
CATEGORIES:Community
ATTACH;FMTTYPE=image/gif:https://livablebuckhead.com/wp-content/uploads/2023/10/6253c55e-fee7-e1a7-3f01-9564d1c6e210.gif
END:VEVENT
BEGIN:VEVENT
DTSTART;TZID=America/New_York:20221029T100000
DTEND;TZID=America/New_York:20221029T123000
DTSTAMP:20260419T224703
CREATED:20220928T201542Z
LAST-MODIFIED:20220928T201857Z
UID:10001619-1667037600-1667046600@livablebuckhead.com
SUMMARY:Atlanta History Center: The Great Trick or Treat
DESCRIPTION:Join the Atlanta History Center for their first annual family fall trick-or-treat event in Goizueta Gardens. Stroll through their gardens with your little ones to gather early Halloween candy and enjoy entertainment including decorations\, balloon artist\, face painter and more. AHC members and their guests can enjoy snacks and a movie in Woodruff Auditorium starting at 11am. \nEntrance for event at Arbor Gate in between the museum and McElreath Hall. Tickets are $10 for adults and children. Free for members.
URL:https://livablebuckhead.com/event/atlanta-history-center-the-great-trick-or-treat/
LOCATION:Atlanta History Center\, 130 West Paces Ferry Rd NW\, Atlanta\, GA Georgia\, 30305
CATEGORIES:Community
ATTACH;FMTTYPE=image/png:https://livablebuckhead.com/wp-content/uploads/2022/09/halloween.png
END:VEVENT
BEGIN:VEVENT
DTSTART;TZID=America/New_York:20211202T193000
DTEND;TZID=America/New_York:20211202T203000
DTSTAMP:20260419T224703
CREATED:20211116T200759Z
LAST-MODIFIED:20211116T200759Z
UID:10001384-1638473400-1638477000@livablebuckhead.com
SUMMARY:Atlanta History Center - Cheryl Day in conversation with Angie Mosier
DESCRIPTION:Cheryl Day\, one of the South’s most respected bakers\, a New York Times bestselling author\, and co-owner—with her husband\, Griff—of Savannah’s acclaimed Back in the Day Bakery\, is a direct descendent of this storied Southern baking tradition. Literally: her great-great-grandmother was an enslaved pastry cook famous for her biscuits and cakes. Now Cheryl brings together her deep experience\, the conversations she’s had with grandmothers and great-aunts and sister-bakers\, and her passion for collecting local cookbooks and handwritten recipes in a definitive collection of over two hundred tried-and-true recipes that celebrate the craft of from-scratch Southern baking. \n\nBundle Tickets \n\nNot Yet Members: $38 (includes general admission ticket + baked treats + access to Swan House before event + signed book at 30% discount!)\nMembers: $33 (includes discounted general admission ticket + baked treats + access to Swan House before event + signed book at 30% discount!)\nInsiders: $28 (includes free general admission ticket + baked treats + access to Swan House before event + signed book at 30% discount!)\n\nGeneral Admission Tickets (book not included) \n\nNot Yet Members: $10\nMembers: $5\nInsiders: Free
URL:https://livablebuckhead.com/event/atlanta-history-center-cheryl-day-in-conversation-with-angie-mosier/
LOCATION:Atlanta History Center\, 130 West Paces Ferry Rd NW\, Atlanta\, GA Georgia\, 30305
CATEGORIES:Miracle on Peachtree
ORGANIZER;CN="Livable Buckhead":MAILTO:info@livablebuckhead.org
END:VEVENT
END:VCALENDAR