BEGIN:VCALENDAR
VERSION:2.0
PRODID:-//Livable Buckhead - ECPv6.15.20//NONSGML v1.0//EN
CALSCALE:GREGORIAN
METHOD:PUBLISH
X-WR-CALNAME:Livable Buckhead
X-ORIGINAL-URL:https://livablebuckhead.com
X-WR-CALDESC:Events for Livable Buckhead
REFRESH-INTERVAL;VALUE=DURATION:PT1H
X-Robots-Tag:noindex
X-PUBLISHED-TTL:PT1H
BEGIN:VTIMEZONE
TZID:America/New_York
BEGIN:DAYLIGHT
TZOFFSETFROM:-0500
TZOFFSETTO:-0400
TZNAME:EDT
DTSTART:20190310T070000
END:DAYLIGHT
BEGIN:STANDARD
TZOFFSETFROM:-0400
TZOFFSETTO:-0500
TZNAME:EST
DTSTART:20191103T060000
END:STANDARD
BEGIN:DAYLIGHT
TZOFFSETFROM:-0500
TZOFFSETTO:-0400
TZNAME:EDT
DTSTART:20200308T070000
END:DAYLIGHT
BEGIN:STANDARD
TZOFFSETFROM:-0400
TZOFFSETTO:-0500
TZNAME:EST
DTSTART:20201101T060000
END:STANDARD
BEGIN:DAYLIGHT
TZOFFSETFROM:-0500
TZOFFSETTO:-0400
TZNAME:EDT
DTSTART:20210314T070000
END:DAYLIGHT
BEGIN:STANDARD
TZOFFSETFROM:-0400
TZOFFSETTO:-0500
TZNAME:EST
DTSTART:20211107T060000
END:STANDARD
BEGIN:DAYLIGHT
TZOFFSETFROM:-0500
TZOFFSETTO:-0400
TZNAME:EDT
DTSTART:20220313T070000
END:DAYLIGHT
BEGIN:STANDARD
TZOFFSETFROM:-0400
TZOFFSETTO:-0500
TZNAME:EST
DTSTART:20221106T060000
END:STANDARD
END:VTIMEZONE
BEGIN:VEVENT
DTSTART;TZID=America/New_York:20210220T190000
DTEND;TZID=America/New_York:20210220T230000
DTSTAMP:20260423T071559
CREATED:20210129T164844Z
LAST-MODIFIED:20210129T165725Z
UID:10001861-1613847600-1613862000@livablebuckhead.com
SUMMARY:Reels on Wheels Movie Series: Black Panther & Hidden Figures
DESCRIPTION:Presented by Livable Buckhead as part of our community programming\, we’re bringing “Reels on Wheels” movies to you this February! The parking lot turned cinema and comedy lounge is located at 309 Buckhead Avenue NE in the newly christened Buckhead Village District.\n\nEach February\, the contributions of Black people are honored during Black History Month. In honor of these contributions\, we are presenting a family-friendly double feature. First up is Hidden Figures\, a 2016 American biographical drama film. Next up is the iconic Black Panther\, a 2018 American superhero film based on the Marvel Comics character of the same name. \n\nAdditionally\, you can purchase family and preset date night meals directly with your event ticket (details below). \n\n\nHERE’S HOW IT WORKS:\n\nWhen you arrive\, have your confirmation email ready for scanning. Head toward the designated area for drive-in guests\, and let staff direct you to a spot.\n\n\nThe suggestion is to arrive at least 20 minutes before showtime — but tailgating is allowed\, if you want to come early.\nYou’re free to bring lawn chairs and sit outside in this spot\, as long as groups stay 6-feet apart from each other. All attendees however must be masked if not eating or sitting inside your vehicle\nYou can preorder food and drink packages from Fado and Shake Shack with this ticket\nYou’ll get movie sound either through your FM radio\, or the outdoor speakers.\nBathrooms are a short walk from the movie lot inside the Buckhead Village District\nPlease note: all Livable Buckhead Members are given a $5 off discount – email anna@livablebuckhead.org for your code.\n\nPARTICIPATING PARTNER RESTAURANTS\nPreorder Your Meal TWO ways:\n1) Preorder one of these preset meals with your ticket :\nFado Irish Pub: Fado features high quality Irish favorites\, the best Fish and Chips in Atlanta\, delicious comfort food and premium beer\, wine and cocktails. \n\nDate Night Package (for 2): 2 Small pear and bleu cheese salads\, Full Fish and Chips and Shepherds Pie $39\nGroup Meal Package (for 4): 4 small pear and bleu cheese salads\, 2 Full Fish and Chips\, 2 Shepherd’s Pies $75\n\nBiltong Bar: Biltong Bar\, the first restaurant and bar of its kind\, is re-calibrating South African street food. \n\nDate Night Package (for 2): The Standard Pizza & Peri-Peri Popcorn $25\nGroup Meal Package (for 4): Two pizzas\, The Standard and the Peri-Peri Chicken Pizza and two orders of Peri-Peri Popcorn. $50\n\nShake Shake : Modern day version of a roadside burger stand serving delicious burgers\, chicken\, hot dogs\, shakes\, frozen custard\, beer\, wine & more. \n\nDate Night Package (for 2): 2 Shackburgers\, 2 fries & 2 shakes of choice (vanilla\, chocolate\, cookies & cream\, strawberry) for $32\nGroup Night Package (for 4): 4 Shackburgers\, 4 fries & 4 shakes of choice (vanilla\, chocolate\, cookies & cream\, strawberry) for $64\n\nIf you have any dietary restrictions or changes to your preset meal\, please email anna@livablebuckhead.org. \nYour prefixed pre-ordered meal will be available for pickup at 8PM at the Reels and Wheels check-in table.* \n2) Or Pre-order your meal directly with the restaurants and pickup yourself\n\nPre-order your Fado meal for self pickup here\nPre-order your Biltong meal for self pickup here\nPre-order your Shake Shack meal for self pickup here\n\nIf ordering through the restaurant\, you will be responsible for picking up your order** \nNote: Use code LIVABLE21 for $5 off an order of $25 or more (self pickup only) \nTICKET PRICES:\nTickets are sold per car and indivudially for bike/walkers. Additionally\, tickets are allocated by zones (SUV/trucks/crossovers & cars) and spaces will be filled on a first come first serve basis. \n\nPer Vehicle – $35\nIndividual Bike/Walk Ticket – $10\n\nNote: Bike and walk tickets are responsible for providing their own seating and tickets are nonrefundable unless the event is canceled due to weather. \n\nGET TICKETS\n\nHOLIDAY FOOD DRIVE\nParticipate in our food drive to help the Atlanta Community Food Bank fight hunger in metro Atlanta! You can make a gift here or bring your food donations with you to any of the Reels on Wheels movie events. Click here for the list of most needed items. \nThank you to all of our sponsor\, Buckhead Village District. Their investment in the Buckhead community\, makes events like these possible.
URL:https://livablebuckhead.com/event/reels-on-wheels-movie-series-black-panther-hidden-figures/
LOCATION:309 Buckhead Ave.\, 309 Buckhead Avenue\, Atlanta\, GA\, 30305
ATTACH;FMTTYPE=image/jpeg:https://livablebuckhead.com/wp-content/uploads/2021/01/black-history-movie-hrz-1.jpg
ORGANIZER;CN="Livable Buckhead":MAILTO:info@livablebuckhead.org
END:VEVENT
BEGIN:VEVENT
DTSTART;TZID=America/New_York:20210214T190000
DTEND;TZID=America/New_York:20210214T220000
DTSTAMP:20260423T071559
CREATED:20210129T163953Z
LAST-MODIFIED:20210129T170459Z
UID:10001860-1613329200-1613340000@livablebuckhead.com
SUMMARY:Reels on Wheels Movie Series: "Hitch" & Comedy Night
DESCRIPTION:Presented by Livable Buckhead as part of our community programming\, we’re bringing “Reels on Wheels” movies and Laughing Skull Comedy Showcase to you this February! The parking lot turned cinema and comedy lounge is located at 309 Buckhead Avenue NE in the newly christened Buckhead Village District.\n\n\nGet ready for a romantic date night like no others. Come early to enjoy a comedic show featuring Kourtlyn Wiggins and Lace Larrabee\, followed by a screening of Hitch\, a 2005 American romantic comedy film directed by Andy Tennant and starring Will Smith. \n\nAdditionally\, you can purchase family and preset date night meals directly with your event ticket (details below). \nHERE’S HOW IT WORKS:\n\nWhen you arrive\, have your confirmation email ready for scanning. Head toward the designated area for drive-in guests\, and let staff direct you to a spot.\n\n\nThe suggestion is to arrive at least 20 minutes before showtime — but tailgating is allowed\, if you want to come early.\nYou’re free to bring lawn chairs and sit outside in this spot\, as long as groups stay 6-feet apart from each other. All attendees however must be masked if not eating or sitting inside your vehicle\nYou can preorder food and drink packages from Fado and Shake Shack with this ticket\nYou’ll get movie sound either through your FM radio\, or the outdoor speakers.\nBathrooms are a short walk from the movie lot inside the Buckhead Village District\nPlease note: all Livable Buckhead Members are given a $5 off discount – email anna@livablebuckhead.org for your code.\n\nPARTICIPATING PARTNER RESTAURANTS\nPreorder Your Meal TWO ways:\n1) Preorder one of these preset meals with your ticket :\nFado Irish Pub: Fado features high quality Irish favorites\, the best Fish and Chips in Atlanta\, delicious comfort food and premium beer\, wine and cocktails. \n\nDate Night Package (for 2): 2 Small pear and bleu cheese salads\, Full Fish and Chips and Shepherds Pie $39\nGroup Meal Package (for 4): 4 small pear and bleu cheese salads\, 2 Full Fish and Chips\, 2 Shepherd’s Pies $75\n\nBiltong Bar: Biltong Bar\, the first restaurant and bar of its kind\, is re-calibrating South African street food. \n\nDate Night Package (for 2): The Standard Pizza & Peri-Peri Popcorn $25\nGroup Meal Package (for 4): Two pizzas\, The Standard and the Peri-Peri Chicken Pizza and two orders of Peri-Peri Popcorn. $50\n\nShake Shake : Modern day version of a roadside burger stand serving delicious burgers\, chicken\, hot dogs\, shakes\, frozen custard\, beer\, wine & more. \n\nDate Night Package (for 2): 2 Shackburgers\, 2 fries & 2 shakes of choice (vanilla\, chocolate\, cookies & cream\, strawberry) for $32\nGroup Night Package (for 4): 4 Shackburgers\, 4 fries & 4 shakes of choice (vanilla\, chocolate\, cookies & cream\, strawberry) for $64\n\nIf you have any dietary restrictions or changes to your preset meal\, please email anna@livablebuckhead.org. \nYour prefixed pre-ordered meal will be available for pickup at 8PM at the Reels and Wheels check-in table.* \n2) Or Pre-order your meal directly with the restaurants and pickup yourself\n\nPre-order your Fado meal for self pickup here\nPre-order your Biltong meal for self pickup here\nPre-order your Shake Shack meal for self pickup here\n\nIf ordering through the restaurant\, you will be responsible for picking up your order** \nNote: Use code LIVABLE21 for $5 off an order of $25 or more (self pickup only) \nTICKET PRICES:\nTickets are sold per car and indivudially for bike/walkers. Additionally\, tickets are allocated by zones (SUV/trucks/crossovers & cars) and spaces will be filled on a first come first serve basis. \n\nPer Vehicle – $35\nIndividual Bike/Walk Ticket – $10\n\nNote: Bike and walk tickets are responsible for provideing their own seating and tickets are nonrefundable unless the event is canceled due to weather. \n\nGET TICKETS\n\nHOLIDAY FOOD DRIVE\nParticipate in our food drive to help the Atlanta Community Food Bank fight hunger in metro Atlanta! You can make a gift here or bring your food donations with you to any of the Reels on Wheels movie events. Click here for the list of most needed items. \nThank you to all of our sponsor\, Buckhead VIllage District. Their investment in the Buckhead community\, makes events like these possible.
URL:https://livablebuckhead.com/event/reels-on-wheels-movie-series-hitch-comedy-night/
LOCATION:309 Buckhead Ave.\, 309 Buckhead Avenue\, Atlanta\, GA\, 30305
ATTACH;FMTTYPE=image/jpeg:https://livablebuckhead.com/wp-content/uploads/2021/01/istock-1291902290-med.jpg
ORGANIZER;CN="Livable Buckhead":MAILTO:info@livablebuckhead.org
END:VEVENT
BEGIN:VEVENT
DTSTART;TZID=America/New_York:20210213T190000
DTEND;TZID=America/New_York:20210213T220000
DTSTAMP:20260423T071559
CREATED:20210129T155915Z
LAST-MODIFIED:20210129T170451Z
UID:10001859-1613242800-1613253600@livablebuckhead.com
SUMMARY:Reels on Wheels Movie Series: "Mean Girls" & Comedy Night
DESCRIPTION:Presented by Livable Buckhead as part of our community programming\, we’re bringing “Reels on Wheels” movies and Laughing Skull Comedy Showcase to you this February! The parking lot turned cinema and comedy lounge is located at 309 Buckhead Avenue NE in the newly christened Buckhead Village District.\n\nIt started as a celebration of TV show Parks and Rec’s Leslie Knope’s ladyfriends. But the pseudo-holiday has caught on as a way to celebrate that most common and yet most unremarked-upon of things: female friendship. Leslie set Galentine’s Day as a festival that would fall\, each year\, on February 13: Valentine’s Day-eve. Join us a we present Mean Girls and comedians Katie Hughes and Kiana Dancie. \n\n\nAdditionally\, you can purchase family and preset date night meals directly with your event ticket (details below). \nHere’s how it works:\n\nWhen you arrive\, have your confirmation email ready for scanning. Head toward the designated area for drive-in guests\, and let staff direct you to a spot.\n\n\nThe suggestion is to arrive at least 20 minutes before showtime — but tailgating is allowed\, if you want to come early.\nYou’re free to bring lawn chairs and sit outside in this spot\, as long as groups stay 6-feet apart from each other. All attendees however must be masked if not eating or sitting inside your vehicle\nYou can preorder food and drink packages from Fado and Shake Shack with this ticket\nYou’ll get movie sound either through your FM radio\, or the outdoor speakers.\nBathrooms are a short walk from the movie lot inside the Buckhead Village District\nPlease note: all Livable Buckhead Members are given a $5 off discount – emailanna@livablebuckhead.org for your code.\n\nParticipating Partner Restaurants\nPreorder Your Meal TWO ways:\n1) Preorder one of these preset meals with your ticket :\nFado Irish Pub: Fado features high quality Irish favorites\, the best Fish and Chips in Atlanta\, delicious comfort food and premium beer\, wine and cocktails. \n\nDate Night Package (for 2): 2 Small pear and bleu cheese salads\, Full Fish and Chips and Shepherds Pie $39\nGroup Meal Package (for 4): 4 small pear and bleu cheese salads\, 2 Full Fish and Chips\, 2 Shepherd’s Pies $75\n\nBiltong Bar: Biltong Bar\, the first restaurant and bar of its kind\, is re-calibrating South African street food. \n\nDate Night Package (for 2): The Standard Pizza & Peri-Peri Popcorn $25\nGroup Meal Package (for 4): Two pizzas\, The Standard and the Peri-Peri Chicken Pizza and two orders of Peri-Peri Popcorn. $50\n\nShake Shake : Modern day version of a roadside burger stand serving delicious burgers\, chicken\, hot dogs\, shakes\, frozen custard\, beer\, wine & more. \n\nDate Night Package (for 2): 2 Shackburgers\, 2 fries & 2 shakes of choice (vanilla\, chocolate\, cookies & cream\, strawberry) for $32\nGroup Night Package (for 4): 4 Shackburgers\, 4 fries & 4 shakes of choice (vanilla\, chocolate\, cookies & cream\, strawberry) for $64\n\nIf you have any dietary restrictions or changes to your preset meal\, please email anna@livablebuckhead.org. \nYour prefixed pre-ordered meal will be available for pickup at 8PM at the Reels and Wheels check-in table.* \n2) Or Pre-order your meal directly with the restaurants and pickup yourself\n\nPre-order your Fado meal for self pickup here\nPre-order your Biltong meal for self pickup here\nPre-order your Shake Shack meal for self pickup here\n\nIf ordering through the restaurant\, you will be responsible for picking up your order** \nNote: Use code LIVABLE21 for $5 off an order of $25 or more (self pickup only) \nTicket Prices:\nTickets are sold per car and indivudially for bike/walkers. Additionally\, tickets are allocated by zones (SUV/trucks/crossovers & cars) and spaces will be filled on a first come first serve basis. \n\nPer Vehicle – $35\nIndividual Bike/Walk Ticket – $10\n\nNote: Bike and walk tickets are responsible for provideing their own seating and tickets are nonrefundable unless the event is canceled due to weather. \n\nGet Tickets\n\nHoliday Food Drive\nParticipate in our food drive to help the Atlanta Community Food Bank fight hunger in metro Atlanta! You can make a gift here or bring your food donations with you to any of the Reels on Wheels movie events. Click here for the list of most needed items. \nThank you to all of our sponsor\, Buckhead VIllage District. Their investment in the Buckhead community\, makes events like these possible.
URL:https://livablebuckhead.com/event/reels-on-wheels-movie-series-mean-girls-comedy-night/
LOCATION:309 Buckhead Ave.\, 309 Buckhead Avenue\, Atlanta\, GA\, 30305
ATTACH;FMTTYPE=image/jpeg:https://livablebuckhead.com/wp-content/uploads/2021/01/galentines-day-1580844218.jpg
ORGANIZER;CN="Livable Buckhead":MAILTO:info@livablebuckhead.org
END:VEVENT
BEGIN:VEVENT
DTSTART;TZID=America/New_York:20201213T200000
DTEND;TZID=America/New_York:20201213T220000
DTSTAMP:20260423T071559
CREATED:20201119T213304Z
LAST-MODIFIED:20201119T213304Z
UID:10001833-1607889600-1607896800@livablebuckhead.com
SUMMARY:"Sleigh-in" Movie: Love Actually
DESCRIPTION:Presented as part of Miracle on Peachtree and located at 309 Buckhead Avenue NE\, the “sleigh-in” movie series invites people of all ages to enjoy holiday classics outdoors this holiday season. Grab a meal from neighboring restaurants Fado\, Taverna or Biltong Bar\, then take in a screening of one (or more) of these holiday classics. Spots are limited\, so advance ticket purchases are encouraged. Tickets range from $25 to $40 for vehicles ($5 discount for Livable Buckhead members and electric vehicles)\, and there will be front row seats reserved for those who bike or walk ($10 per person).\n\nLove Actually is a 2003 Christmas-themed romantic comedy film written and directed by Richard Curtis. It features an ensemble cast\, composed predominantly of British actors\, many of whom had worked with Curtis in previous film and television projects. Mostly filmed on location in London\, the screenplay delves into different aspects of love as shown through ten separate stories involving a wide variety of individuals\, many of whom are shown to be interlinked as the tales progress. The story begins five weeks before Christmas and is played out in a weekly countdown until the holiday\, followed by an epilogue that takes place one month later.
URL:https://livablebuckhead.com/event/sleigh-in-movie-love-actually/
LOCATION:309 Buckhead Ave.\, 309 Buckhead Avenue\, Atlanta\, GA\, 30305
CATEGORIES:Miracle on Peachtree
ATTACH;FMTTYPE=image/jpeg:https://livablebuckhead.com/wp-content/uploads/2020/11/miracle-on-peachtree-sleigh-in-movie-logo-1.jpg
ORGANIZER;CN="Livable Buckhead":MAILTO:info@livablebuckhead.org
END:VEVENT
BEGIN:VEVENT
DTSTART;TZID=America/New_York:20201213T180000
DTEND;TZID=America/New_York:20201213T193000
DTSTAMP:20260423T071559
CREATED:20201119T213134Z
LAST-MODIFIED:20201119T213152Z
UID:10001832-1607882400-1607887800@livablebuckhead.com
SUMMARY:"Sleigh-in" Movie: An American Tail
DESCRIPTION:Presented as part of Miracle on Peachtree and located at 309 Buckhead Avenue NE\, the “sleigh-in” movie series invites people of all ages to enjoy holiday classics outdoors this holiday season. Grab a meal from neighboring restaurants Fado\, Taverna or Biltong Bar\, then take in a screening of one (or more) of these holiday classics. Spots are limited\, so advance ticket purchases are encouraged. Tickets range from $25 to $40 for vehicles ($5 discount for Livable Buckhead members and electric vehicles)\, and there will be front row seats reserved for those who bike or walk ($10 per person).\n\nAn American Tail is a 1986 animated musical adventure comedy-drama film directed by Don Bluth\, written by Judy Freudberg and Tony Geiss\, and produced by Sullivan Bluth Inc. and Amblin Entertainment. The film features the voices of Phillip Glasser\, John Finnegan\, Amy Green\, Nehemiah Persoff\, Dom DeLuise\, and Christopher Plummer. It tells the story of Fievel Mousekewitz and his family as they emigrate from Shostka to the United States for freedom. However\, he gets lost and must find a way to reunite with them.
URL:https://livablebuckhead.com/event/sleigh-in-movie-an-american-tail/
LOCATION:309 Buckhead Ave.\, 309 Buckhead Avenue\, Atlanta\, GA\, 30305
CATEGORIES:Miracle on Peachtree
ORGANIZER;CN="Livable Buckhead":MAILTO:info@livablebuckhead.org
END:VEVENT
BEGIN:VEVENT
DTSTART;TZID=America/New_York:20201212T203000
DTEND;TZID=America/New_York:20201212T223000
DTSTAMP:20260423T071559
CREATED:20201119T213027Z
LAST-MODIFIED:20201119T213027Z
UID:10001831-1607805000-1607812200@livablebuckhead.com
SUMMARY:"Sleigh-in" Movie: A Christmas Story
DESCRIPTION:Presented as part of Miracle on Peachtree and located at 309 Buckhead Avenue NE\, the “sleigh-in” movie series invites people of all ages to enjoy holiday classics outdoors this holiday season. Grab a meal from neighboring restaurants Fado\, Taverna or Biltong Bar\, then take in a screening of one (or more) of these holiday classics. Spots are limited\, so advance ticket purchases are encouraged. Tickets range from $25 to $40 for vehicles ($5 discount for Livable Buckhead members and electric vehicles)\, and there will be front row seats reserved for those who bike or walk ($10 per person).\n\nA Christmas Story is a 1983 American Christmas comedy film directed by Bob Clark and based on Jean Shepherd’s semi-fictional anecdotes in his 1966 book In God We Trust: All Others Pay Cash\, with some elements from his 1971 book Wanda Hickey’s Night of Golden Memories and Other Disasters. It stars Melinda Dillon\, Darren McGavin\, and Peter Billingsley and is a seasonal classic in North America.
URL:https://livablebuckhead.com/event/sleigh-in-movie-a-christmas-story/
LOCATION:309 Buckhead Ave.\, 309 Buckhead Avenue\, Atlanta\, GA\, 30305
CATEGORIES:Miracle on Peachtree
ATTACH;FMTTYPE=image/jpeg:https://livablebuckhead.com/wp-content/uploads/2020/11/miracle-on-peachtree-sleigh-in-movie-logo-1.jpg
ORGANIZER;CN="Livable Buckhead":MAILTO:info@livablebuckhead.org
END:VEVENT
BEGIN:VEVENT
DTSTART;TZID=America/New_York:20201212T180000
DTEND;TZID=America/New_York:20201212T200000
DTSTAMP:20260423T071559
CREATED:20201119T212912Z
LAST-MODIFIED:20201119T212912Z
UID:10001810-1607796000-1607803200@livablebuckhead.com
SUMMARY:"Sleigh-in" Movie: Home Alone
DESCRIPTION:Presented as part of Miracle on Peachtree and located at 309 Buckhead Avenue NE\, the “sleigh-in” movie series invites people of all ages to enjoy holiday classics outdoors this holiday season. Grab a meal from neighboring restaurants Fado\, Taverna or Biltong Bar\, then take in a screening of one (or more) of these holiday classics. Spots are limited\, so advance ticket purchases are encouraged. Tickets range from $25 to $40 for vehicles ($5 discount for Livable Buckhead members and electric vehicles)\, and there will be front row seats reserved for those who bike or walk ($10 per person).\n\nHome Alone is a 1990 American comedy film written and produced by John Hughes and directed by Chris Columbus. It stars Macaulay Culkin\, Joe Pesci\, Daniel Stern\, John Heard\, and Catherine O’Hara. The film follows Kevin (Culkin)\, an eight-year-old boy\, who must defend his home from two burglars\, Harry and Marv (Pesci and Stern)\, after his family accidentally leaves him behind on their Christmas vacation.
URL:https://livablebuckhead.com/event/sleigh-in-movie-home-alone/
LOCATION:309 Buckhead Ave.\, 309 Buckhead Avenue\, Atlanta\, GA\, 30305
CATEGORIES:Miracle on Peachtree
ATTACH;FMTTYPE=image/jpeg:https://livablebuckhead.com/wp-content/uploads/2020/11/miracle-on-peachtree-sleigh-in-movie-logo-1.jpg
ORGANIZER;CN="Livable Buckhead":MAILTO:info@livablebuckhead.org
END:VEVENT
BEGIN:VEVENT
DTSTART;TZID=America/New_York:20201211T200000
DTEND;TZID=America/New_York:20201211T220000
DTSTAMP:20260423T071600
CREATED:20201119T212750Z
LAST-MODIFIED:20201119T212750Z
UID:10001808-1607716800-1607724000@livablebuckhead.com
SUMMARY:"Sleigh-in" Movie: Die Hard (edited version)
DESCRIPTION:Presented as part of Miracle on Peachtree and located at 309 Buckhead Avenue NE\, the “sleigh-in” movie series invites people of all ages to enjoy holiday classics outdoors this holiday season. Grab a meal from neighboring restaurants Fado\, Taverna or Biltong Bar\, then take in a screening of one (or more) of these holiday classics. Spots are limited\, so advance ticket purchases are encouraged. Tickets range from $25 to $40 for vehicles ($5 discount for Livable Buckhead members and electric vehicles)\, and there will be front row seats reserved for those who bike or walk ($10 per person).\n\nDie Hard is a 1988 American action film directed by John McTiernan and written by Jeb Stuart and Steven E. de Souza. It stars Bruce Willis\, Alan Rickman\, Alexander Godunov\, and Bonnie Bedelia. Based on the 1979 novel Nothing Lasts Forever by Roderick Thorp\, Die Hard follows New York City police detective John McClane (Willis) who is caught up in a terrorist takeover of a Los Angeles skyscraper while visiting his estranged wife.
URL:https://livablebuckhead.com/event/sleigh-in-movie-die-hard-edited-version/
LOCATION:309 Buckhead Ave.\, 309 Buckhead Avenue\, Atlanta\, GA\, 30305
CATEGORIES:Miracle on Peachtree
ATTACH;FMTTYPE=image/jpeg:https://livablebuckhead.com/wp-content/uploads/2020/11/miracle-on-peachtree-sleigh-in-movie-logo-1.jpg
ORGANIZER;CN="Livable Buckhead":MAILTO:info@livablebuckhead.org
END:VEVENT
BEGIN:VEVENT
DTSTART;TZID=America/New_York:20201211T180000
DTEND;TZID=America/New_York:20201211T200000
DTSTAMP:20260423T071600
CREATED:20201119T212519Z
LAST-MODIFIED:20201119T212536Z
UID:10001328-1607709600-1607716800@livablebuckhead.com
SUMMARY:"Sleigh-in" Movie: Elf
DESCRIPTION:Presented as part of Miracle on Peachtree and located at 309 Buckhead Avenue NE\, the “sleigh-in” movie series invites people of all ages to enjoy holiday classics outdoors this holiday season. Grab a meal from neighboring restaurants Fado\, Taverna or Biltong Bar\, then take in a screening of one (or more) of these holiday classics. Spots are limited\, so advance ticket purchases are encouraged. Tickets range from $25 to $40 for vehicles ($5 discount for Livable Buckhead members and electric vehicles)\, and there will be front row seats reserved for those who bike or walk ($10 per person).\n\nElf is a 2003 American Christmas comedy film directed by Jon Favreau\, written by David Berenbaum\, and starring Will Ferrell\, James Caan\, Zooey Deschanel\, Mary Steenburgen\, Daniel Tay\, Bob Newhart and Ed Asner. The film centers on Buddy\, a human who was adopted and raised by Santa’s elves. He learns about this and heads to New York City to meet his biological father while also spreading Christmas cheer in a world of cynics in the process.
URL:https://livablebuckhead.com/event/sleigh-in-movie-elf/
LOCATION:309 Buckhead Ave.\, 309 Buckhead Avenue\, Atlanta\, GA\, 30305
CATEGORIES:Miracle on Peachtree
ATTACH;FMTTYPE=image/jpeg:https://livablebuckhead.com/wp-content/uploads/2020/11/miracle-on-peachtree-sleigh-in-movie-logo-1.jpg
ORGANIZER;CN="Livable Buckhead":MAILTO:info@livablebuckhead.org
END:VEVENT
END:VCALENDAR