BEGIN:VCALENDAR
VERSION:2.0
PRODID:-//Livable Buckhead - ECPv6.15.20//NONSGML v1.0//EN
CALSCALE:GREGORIAN
METHOD:PUBLISH
X-ORIGINAL-URL:https://livablebuckhead.com
X-WR-CALDESC:Events for Livable Buckhead
REFRESH-INTERVAL;VALUE=DURATION:PT1H
X-Robots-Tag:noindex
X-PUBLISHED-TTL:PT1H
BEGIN:VTIMEZONE
TZID:America/New_York
BEGIN:DAYLIGHT
TZOFFSETFROM:-0500
TZOFFSETTO:-0400
TZNAME:EDT
DTSTART:20240310T070000
END:DAYLIGHT
BEGIN:STANDARD
TZOFFSETFROM:-0400
TZOFFSETTO:-0500
TZNAME:EST
DTSTART:20241103T060000
END:STANDARD
BEGIN:DAYLIGHT
TZOFFSETFROM:-0500
TZOFFSETTO:-0400
TZNAME:EDT
DTSTART:20250309T070000
END:DAYLIGHT
BEGIN:STANDARD
TZOFFSETFROM:-0400
TZOFFSETTO:-0500
TZNAME:EST
DTSTART:20251102T060000
END:STANDARD
BEGIN:DAYLIGHT
TZOFFSETFROM:-0500
TZOFFSETTO:-0400
TZNAME:EDT
DTSTART:20260308T070000
END:DAYLIGHT
BEGIN:STANDARD
TZOFFSETFROM:-0400
TZOFFSETTO:-0500
TZNAME:EST
DTSTART:20261101T060000
END:STANDARD
END:VTIMEZONE
BEGIN:VEVENT
DTSTART;TZID=America/New_York:20251008T180000
DTEND;TZID=America/New_York:20251008T203000
DTSTAMP:20260419T201701
CREATED:20250926T144528Z
LAST-MODIFIED:20250926T144528Z
UID:10002290-1759946400-1759955400@livablebuckhead.com
SUMMARY:Live Patio Music @ Boone's
DESCRIPTION:Join us on our Terrace Patio to listen to the cool tunes from Marcel while overlooking the beautiful Bobby Jones Golf Course.
URL:https://livablebuckhead.com/event/live-patio-music-boones/
LOCATION:Boone’s\, 2205 Northside Dr NW\, Atlanta\, GA\, 30305\, United States
ATTACH;FMTTYPE=image/jpeg:https://livablebuckhead.com/wp-content/uploads/2025/09/eventcalendar.jpeg
ORGANIZER;CN="Stephanie Rodgers":MAILTO:stephanie.rodgers@bobbyjoneslinks.com
END:VEVENT
END:VCALENDAR