BEGIN:VCALENDAR
VERSION:2.0
PRODID:-//Livable Buckhead - ECPv6.15.20//NONSGML v1.0//EN
CALSCALE:GREGORIAN
METHOD:PUBLISH
X-ORIGINAL-URL:https://livablebuckhead.com
X-WR-CALDESC:Events for Livable Buckhead
REFRESH-INTERVAL;VALUE=DURATION:PT1H
X-Robots-Tag:noindex
X-PUBLISHED-TTL:PT1H
BEGIN:VTIMEZONE
TZID:America/New_York
BEGIN:DAYLIGHT
TZOFFSETFROM:-0500
TZOFFSETTO:-0400
TZNAME:EDT
DTSTART:20240310T070000
END:DAYLIGHT
BEGIN:STANDARD
TZOFFSETFROM:-0400
TZOFFSETTO:-0500
TZNAME:EST
DTSTART:20241103T060000
END:STANDARD
BEGIN:DAYLIGHT
TZOFFSETFROM:-0500
TZOFFSETTO:-0400
TZNAME:EDT
DTSTART:20250309T070000
END:DAYLIGHT
BEGIN:STANDARD
TZOFFSETFROM:-0400
TZOFFSETTO:-0500
TZNAME:EST
DTSTART:20251102T060000
END:STANDARD
BEGIN:DAYLIGHT
TZOFFSETFROM:-0500
TZOFFSETTO:-0400
TZNAME:EDT
DTSTART:20260308T070000
END:DAYLIGHT
BEGIN:STANDARD
TZOFFSETFROM:-0400
TZOFFSETTO:-0500
TZNAME:EST
DTSTART:20261101T060000
END:STANDARD
END:VTIMEZONE
BEGIN:VEVENT
DTSTART;TZID=America/New_York:20251212T180000
DTEND;TZID=America/New_York:20251212T210000
DTSTAMP:20260419T201913
CREATED:20251114T161613Z
LAST-MODIFIED:20251114T161613Z
UID:10002346-1765562400-1765573200@livablebuckhead.com
SUMMARY:Adult Night: Holiday Bricktacular
DESCRIPTION:Experience a winter wonderland of activities and festive fun during Adult Night on Friday\, December 12th in the holiday-themed attraction! \nHoliday Bricktacular Adult Night includes: \n\nUgly Holiday Sweater competition!\nCompete in build challenges to win LEGO prizes\nBuild your own LEGO ornament\nRaffle prizes\nAnd much more!\n\nPlease note: \n\nGuests must be 18 years or older for entry\nGuests must be 21 and provide valid ID to consume alcohol if available\nTickets are limited and can sell out
URL:https://livablebuckhead.com/event/adult-night-holiday-bricktacular/
LOCATION:LEGO Discovery Center Atlanta\, 3500 Peachtree Rd NE Suite G-1\, Atlanta\, GA\, 30326\, United States
ATTACH;FMTTYPE=image/png:https://livablebuckhead.com/wp-content/uploads/2025/11/adult-night-1080x1080-1.png
ORGANIZER;CN="LEGO Discovery Center Atlanta":MAILTO:Atlanta@LEGOdiscoverycenter.com
END:VEVENT
BEGIN:VEVENT
DTSTART;TZID=America/New_York:20251212T100000
DTEND;TZID=America/New_York:20251224T170000
DTSTAMP:20260419T201913
CREATED:20251114T161616Z
LAST-MODIFIED:20251114T161616Z
UID:10002345-1765533600-1766595600@livablebuckhead.com
SUMMARY:Holiday Bricktacular at LEGO Discovery Center Atlanta
DESCRIPTION:Build the best memories at Atlanta’s top family holiday event\, Holiday Bricktacular! Daily from December 12 – December 24\, families can enjoy a winter wonderland of activities\, festive decorations and more at LEGO Discovery Center Atlanta. \nFill your holiday hearts with the Build To Give experience! Families can create joy in the biggest ever donation of LEGO® sets to children in need by building a LEGO heart at LEGO Discovery Center Atlanta. \nHoliday Bricktacular Activities: \n\nBuild To Give experience helps give back to community with your creative LEGO heart creations.\nSpecial LEGO snowflake in our Master Model Builder Academy and take it home as our holiday gift to you! Only available while supplies last.\nMeet and greet with a LEGO® costume character!\nPurchase festive holiday treats in our café.\nExplore MINILAND Atlanta transformed into a festive holiday landscape.\nSpot our elf\, who will be hiding somewhere in our attraction!\nSnap a family photo with our GIANT holiday builds\, all made from LEGO bricks.
URL:https://livablebuckhead.com/event/holiday-bricktacular-at-lego-discovery-center-atlanta/
LOCATION:LEGO Discovery Center Atlanta\, 3500 Peachtree Rd NE Suite G-1\, Atlanta\, GA\, 30326\, United States
ATTACH;FMTTYPE=image/jpeg:https://livablebuckhead.com/wp-content/uploads/2025/11/ldc_crm_600x600_square_gbm.jpg
ORGANIZER;CN="LEGO Discovery Center Atlanta":MAILTO:Atlanta@LEGOdiscoverycenter.com
END:VEVENT
BEGIN:VEVENT
DTSTART;TZID=America/New_York:20251024T180000
DTEND;TZID=America/New_York:20251024T210000
DTSTAMP:20260419T201913
CREATED:20251006T175230Z
LAST-MODIFIED:20251006T175230Z
UID:10002296-1761328800-1761339600@livablebuckhead.com
SUMMARY:Adult Night: Brick-or-Treat
DESCRIPTION:Experience a BOO-tastic Adult Night on Friday\, October 24th in our Halloween-themed attraction filled with tricks and treats galore! Enjoy the 4D Monster Party movie\, Kingdom Quest ride\, and explore the full attraction kid-free! \nBrick-or-Treat Adult Night includes: \n\nCompete in build challenges to win LEGO prizes\nParticipate in Halloween-themed games\nCome dressed to impress in your best Halloween costume for the chance to compete in a brick-tastic costume contest\nRaffle prizes\nAnd much more!\n\nPlease note: \n\nGuests must be 18 years or older for entry\nGuests must be 21 and provide valid ID to consume alcohol if available\nTickets are limited and can sell out
URL:https://livablebuckhead.com/event/adult-night-brick-or-treat/
LOCATION:LEGO Discovery Center Atlanta\, 3500 Peachtree Rd NE Suite G-1\, Atlanta\, GA\, 30326\, United States
ATTACH;FMTTYPE=image/png:https://livablebuckhead.com/wp-content/uploads/2025/10/adult-night-600-x-600.png
ORGANIZER;CN="LEGO Discovery Center Atlanta":MAILTO:Atlanta@LEGOdiscoverycenter.com
END:VEVENT
END:VCALENDAR