BEGIN:VCALENDAR
VERSION:2.0
PRODID:-//Livable Buckhead - ECPv6.15.20//NONSGML v1.0//EN
CALSCALE:GREGORIAN
METHOD:PUBLISH
X-WR-CALNAME:Livable Buckhead
X-ORIGINAL-URL:https://livablebuckhead.com
X-WR-CALDESC:Events for Livable Buckhead
REFRESH-INTERVAL;VALUE=DURATION:PT1H
X-Robots-Tag:noindex
X-PUBLISHED-TTL:PT1H
BEGIN:VTIMEZONE
TZID:America/New_York
BEGIN:DAYLIGHT
TZOFFSETFROM:-0500
TZOFFSETTO:-0400
TZNAME:EDT
DTSTART:20250309T070000
END:DAYLIGHT
BEGIN:STANDARD
TZOFFSETFROM:-0400
TZOFFSETTO:-0500
TZNAME:EST
DTSTART:20251102T060000
END:STANDARD
BEGIN:DAYLIGHT
TZOFFSETFROM:-0500
TZOFFSETTO:-0400
TZNAME:EDT
DTSTART:20260308T070000
END:DAYLIGHT
BEGIN:STANDARD
TZOFFSETFROM:-0400
TZOFFSETTO:-0500
TZNAME:EST
DTSTART:20261101T060000
END:STANDARD
BEGIN:DAYLIGHT
TZOFFSETFROM:-0500
TZOFFSETTO:-0400
TZNAME:EDT
DTSTART:20270314T070000
END:DAYLIGHT
BEGIN:STANDARD
TZOFFSETFROM:-0400
TZOFFSETTO:-0500
TZNAME:EST
DTSTART:20271107T060000
END:STANDARD
END:VTIMEZONE
BEGIN:VEVENT
DTSTART;TZID=America/New_York:20260430T180000
DTEND;TZID=America/New_York:20260430T193000
DTSTAMP:20260424T154012
CREATED:20260424T134635Z
LAST-MODIFIED:20260424T134635Z
UID:10004355-1777572000-1777577400@livablebuckhead.com
SUMMARY:Fashion In Bloom: A Spring Runway Show
DESCRIPTION:Lights. Sip. Style. To kick off Bodacious Blooms 2026\, Buckhead Village is turning the spotlight on our fashion tenants with a special runway show at Carousel Fine Art. Expect fresh looks\, artful vibes\, and a chic crowd.
URL:https://livablebuckhead.com/event/fashion-in-bloom-a-spring-runway-show/
LOCATION:Carousel Fine Art\, 3025 Bolling Way NE G111\, Atlanta\, GA\, 30305\, United States
CATEGORIES:Arts and Culture,Bodacious Blooms
ATTACH;FMTTYPE=image/png:https://livablebuckhead.com/wp-content/uploads/2026/04/screen-shot-2026-04-24-at-9.20.24-am.png
ORGANIZER;CN="Livable Buckhead":MAILTO:info@livablebuckhead.org
END:VEVENT
END:VCALENDAR