BEGIN:VCALENDAR
VERSION:2.0
PRODID:-//Livable Buckhead - ECPv6.15.20//NONSGML v1.0//EN
CALSCALE:GREGORIAN
METHOD:PUBLISH
X-WR-CALNAME:Livable Buckhead
X-ORIGINAL-URL:https://livablebuckhead.com
X-WR-CALDESC:Events for Livable Buckhead
REFRESH-INTERVAL;VALUE=DURATION:PT1H
X-Robots-Tag:noindex
X-PUBLISHED-TTL:PT1H
BEGIN:VTIMEZONE
TZID:America/New_York
BEGIN:DAYLIGHT
TZOFFSETFROM:-0500
TZOFFSETTO:-0400
TZNAME:EDT
DTSTART:20220313T070000
END:DAYLIGHT
BEGIN:STANDARD
TZOFFSETFROM:-0400
TZOFFSETTO:-0500
TZNAME:EST
DTSTART:20221106T060000
END:STANDARD
BEGIN:DAYLIGHT
TZOFFSETFROM:-0500
TZOFFSETTO:-0400
TZNAME:EDT
DTSTART:20230312T070000
END:DAYLIGHT
BEGIN:STANDARD
TZOFFSETFROM:-0400
TZOFFSETTO:-0500
TZNAME:EST
DTSTART:20231105T060000
END:STANDARD
BEGIN:DAYLIGHT
TZOFFSETFROM:-0500
TZOFFSETTO:-0400
TZNAME:EDT
DTSTART:20240310T070000
END:DAYLIGHT
BEGIN:STANDARD
TZOFFSETFROM:-0400
TZOFFSETTO:-0500
TZNAME:EST
DTSTART:20241103T060000
END:STANDARD
BEGIN:DAYLIGHT
TZOFFSETFROM:-0500
TZOFFSETTO:-0400
TZNAME:EDT
DTSTART:20250309T070000
END:DAYLIGHT
BEGIN:STANDARD
TZOFFSETFROM:-0400
TZOFFSETTO:-0500
TZNAME:EST
DTSTART:20251102T060000
END:STANDARD
END:VTIMEZONE
BEGIN:VEVENT
DTSTART;TZID=America/New_York:20240807T180000
DTEND;TZID=America/New_York:20240807T200000
DTSTAMP:20260424T001057
CREATED:20240719T132621Z
LAST-MODIFIED:20240719T132621Z
UID:10001809-1723053600-1723060800@livablebuckhead.com
SUMMARY:Buckhead Run + Walk Club - 6 Year Anniversary
DESCRIPTION:Date/Time\nWednesday\, August 7 / 6pm – 8pm\n \nLocation\nPatagonia Buckhead Store\n34 East Andrews Drive Northwest\, Atlanta\, Georgia 30305\n \nDescription\nCelebrate six years of the Buckhead Run + Walk Club at Patagonia Buckhead! Stop by the store to meet those involved + check out how to get started. There will be food and beverages\, as well as fun giveaways. The first 15 people to attend the event will receive a free Livable Buckhead t-shirt!\n\nLivable Buckhead + the Buckhead community have created the best running club in the city. Buckhead Run + Walk Club meets every Tuesday at 6pm at Citizens Market. This club is free and open to all levels! We just want to see you out on PATH400! The Buckhead Run + Walk Club is a great opportunity to get into a weekly running routine or simply enjoy the safety of a group run. This is meant to be a fun\, enjoyable\, relaxing\, safe experience and to help make us all feel part of a run family again.\n\nEvent Transportation\nPlanning your trip to the store?\n\n\nWe have FREE parking in front and back of our store as well as street parking directly in front of the store.\nThe Buckhead MARTA station is the closest stop on the Red Line (1.2 miles walking)\nThe Lenox MARTA station is the closest stop on the Gold Line (1.7 miles walking)\nThe Buc is a new on-demand\, shared transportation service. Think of it as a minibus that comes when you want\, where you want. Enter your pickup and drop off addresses and they’ll provide a few ride options.\n\nThe Buc operates weekdays during morning and afternoon/evening commute hours\, as well as lunchtime. Check out exact operating hours and more information HERE.\nRides are FREE to and from the Buckhead and Lenox MARTA stations\, and $3 anywhere within the Buckhead service zone.\nDownload The Buc app today to schedule a ride!
URL:https://livablebuckhead.com/event/buckhead-run-walk-club-6-year-anniversary/
LOCATION:Patagonia Buckhead\, 34 East Andrews Drive Northwest\, Atlanta\, GA\, 30305
CATEGORIES:Run Club
ATTACH;FMTTYPE=image/png:https://livablebuckhead.com/wp-content/uploads/2024/03/run-club.png
ORGANIZER;CN="Livable Buckhead":MAILTO:info@livablebuckhead.org
END:VEVENT
BEGIN:VEVENT
DTSTART;TZID=America/New_York:20240504T080000
DTEND;TZID=America/New_York:20240504T220000
DTSTAMP:20260424T001057
CREATED:20240212T212205Z
LAST-MODIFIED:20240408T151712Z
UID:10001751-1714809600-1714860000@livablebuckhead.com
SUMMARY:buckheadRUN! 5K
DESCRIPTION:buckheadRUN!\, Livable Buckhead’s sixth annual 5K\, returns on Saturday\, May 4. Once again\, this year’s race is part of Buckhead Village District’s Bodacious Blooms festival\, a four-day celebration of spring featuring larger-than-life floral installations and community-wide events. \nLivable Buckhead is encouraging runners of all ages and abilities to join the fun and to bring their four-legged friends with them. In addition to awards for the fastest runners in various age groups\, buckheadRUN! includes a “Fastest Fido” category\, bandana giveaways for dogs\, a pre-race hype event and post-race celebration. Runners are also encouraged to celebrate spring by dressing in flower-themed costumes and garb. Livable Buckhead will award prizes for the best flower costumes. \nThis year’s field of runners will follow a new USA Track and Field-certified course that begins at Lenox Square\, follows PATH400 to Miami Circle then takes Piedmont Rd. and East Paces Ferry Rd. to Buckhead Village. buckheadRUN! is a 2025 Peachtree Road Race qualifier. \nbuckheadRUN! registration is $35 for adults and $15 for children. Registration increases to $45 for adults and $25 for children after April 12. Awards will be given to the top male and female in eight divisions\, and all registered runners will receive a commemorative t-shirt following the race. The “Fastest Fido” award will go to the fastest dog in the race.
URL:https://livablebuckhead.com/event/buckheadrun-5k-4/
LOCATION:Lenox Square\, 3393 Peachtree Road NE\, Atlanta\, GA\, 30326
CATEGORIES:Bodacious Blooms,Buckhead Run + Walk Club,Buckhead Runs,buckheadRUN!,Run Club
ATTACH;FMTTYPE=image/jpeg:https://livablebuckhead.com/wp-content/uploads/2023/03/2023-buckheadrun-header.jpg
ORGANIZER;CN="Livable Buckhead":MAILTO:info@livablebuckhead.org
END:VEVENT
BEGIN:VEVENT
DTSTART;TZID=America/New_York:20230328T180000
DTEND;TZID=America/New_York:20230328T190000
DTSTAMP:20260424T001057
CREATED:20230327T181736Z
LAST-MODIFIED:20240116T144026Z
UID:10002043-1680026400-1680030000@livablebuckhead.com
SUMMARY:Buckhead Run Club
DESCRIPTION:Livable Buckhead and the Buckhead community has created the best running club in the city. This run club is open to all levels. Run\, walk or even cartwheel – we just want to see you out on PATH400! The Buckhead Run + Walk Club is a great opportunity to get into a weekly running routine or simply enjoy the safety of a group run\, join us every Tuesday at 6:00pm at Citizens Market/Phipps Plaza (3500 Peachtree Road NE Atlanta GA 30326) for this weekly run. \nGuidelines: \n\nMeet outside at Citizens Market in Phipps Plaza.\nWaters will be available as needed.\nALL paces welcome – runners & walkers.\nRoutes will be available for 2 or 3 mile workouts.\n\nThis is meant to be a fun\, enjoyable\, relaxing\, safe experience and to help make us all feel part of a run family again. \nJoin Us!\n\n\n\n\nPlease fill out the following release form to participate in the Buckhead Run + Walk Club. You can either print it and bring it prior to participating\, or fill it out digitally and email it to us at info@livablebuckhead.org.
URL:https://livablebuckhead.com/event/buckhead-run-club/
LOCATION:lululemon\, 3400 Around Lenox Rd\, Atlanta\, GA\, 30326
CATEGORIES:buckheadRUN!,Run Club,walks23
ATTACH;FMTTYPE=image/png:https://livablebuckhead.com/wp-content/uploads/2023/03/run-club.png
ORGANIZER;CN="Livable Buckhead":MAILTO:info@livablebuckhead.org
END:VEVENT
END:VCALENDAR