BEGIN:VCALENDAR
VERSION:2.0
PRODID:-//Livable Buckhead - ECPv6.15.20//NONSGML v1.0//EN
CALSCALE:GREGORIAN
METHOD:PUBLISH
X-ORIGINAL-URL:https://livablebuckhead.com
X-WR-CALDESC:Events for Livable Buckhead
REFRESH-INTERVAL;VALUE=DURATION:PT1H
X-Robots-Tag:noindex
X-PUBLISHED-TTL:PT1H
BEGIN:VTIMEZONE
TZID:America/New_York
BEGIN:DAYLIGHT
TZOFFSETFROM:-0500
TZOFFSETTO:-0400
TZNAME:EDT
DTSTART:20180311T070000
END:DAYLIGHT
BEGIN:STANDARD
TZOFFSETFROM:-0400
TZOFFSETTO:-0500
TZNAME:EST
DTSTART:20181104T060000
END:STANDARD
BEGIN:DAYLIGHT
TZOFFSETFROM:-0500
TZOFFSETTO:-0400
TZNAME:EDT
DTSTART:20190310T070000
END:DAYLIGHT
BEGIN:STANDARD
TZOFFSETFROM:-0400
TZOFFSETTO:-0500
TZNAME:EST
DTSTART:20191103T060000
END:STANDARD
BEGIN:DAYLIGHT
TZOFFSETFROM:-0500
TZOFFSETTO:-0400
TZNAME:EDT
DTSTART:20200308T070000
END:DAYLIGHT
BEGIN:STANDARD
TZOFFSETFROM:-0400
TZOFFSETTO:-0500
TZNAME:EST
DTSTART:20201101T060000
END:STANDARD
BEGIN:DAYLIGHT
TZOFFSETFROM:-0500
TZOFFSETTO:-0400
TZNAME:EDT
DTSTART:20210314T070000
END:DAYLIGHT
BEGIN:STANDARD
TZOFFSETFROM:-0400
TZOFFSETTO:-0500
TZNAME:EST
DTSTART:20211107T060000
END:STANDARD
BEGIN:DAYLIGHT
TZOFFSETFROM:-0500
TZOFFSETTO:-0400
TZNAME:EDT
DTSTART:20220313T070000
END:DAYLIGHT
BEGIN:STANDARD
TZOFFSETFROM:-0400
TZOFFSETTO:-0500
TZNAME:EST
DTSTART:20221106T060000
END:STANDARD
BEGIN:DAYLIGHT
TZOFFSETFROM:-0500
TZOFFSETTO:-0400
TZNAME:EDT
DTSTART:20230312T070000
END:DAYLIGHT
BEGIN:STANDARD
TZOFFSETFROM:-0400
TZOFFSETTO:-0500
TZNAME:EST
DTSTART:20231105T060000
END:STANDARD
BEGIN:DAYLIGHT
TZOFFSETFROM:-0500
TZOFFSETTO:-0400
TZNAME:EDT
DTSTART:20240310T070000
END:DAYLIGHT
BEGIN:STANDARD
TZOFFSETFROM:-0400
TZOFFSETTO:-0500
TZNAME:EST
DTSTART:20241103T060000
END:STANDARD
BEGIN:DAYLIGHT
TZOFFSETFROM:-0500
TZOFFSETTO:-0400
TZNAME:EDT
DTSTART:20250309T070000
END:DAYLIGHT
BEGIN:STANDARD
TZOFFSETFROM:-0400
TZOFFSETTO:-0500
TZNAME:EST
DTSTART:20251102T060000
END:STANDARD
END:VTIMEZONE
BEGIN:VEVENT
DTSTART;TZID=America/New_York:20240920T110000
DTEND;TZID=America/New_York:20240920T140000
DTSTAMP:20260424T193301
CREATED:20240829T142528Z
LAST-MODIFIED:20240829T151530Z
UID:10002174-1726830000-1726840800@livablebuckhead.com
SUMMARY:PARK(ing) Day 2024
DESCRIPTION:Turning a parking lot green with envy \nOn Friday\, Sept. 20 a portion of the Lenox Square parking lot will become an oasis of pop-up parks. This is the seventh year for Livable Buckhead’s PARK(ing) Day at Lenox Square\, a project to temporarily convert parking spaces into creative places for art and play. \n“It is our first PARK(ing) day since 2021\, and we are thrilled to bring back this tradition\,” said Denise Starling\, executive director of Livable Buckhead. “Parks are a vital part of any community\, and this event is a fun and interactive way to creatively remind us of that.” \nWhat is PARK(ing) Day? \nPARK(ing) Day 2024 will bring together local businesses and community groups transforming standard-sized parking spaces into unique expressions of their respective organizations\, and celebrating the exceptional establishments that make Buckhead a great place to live\, work and play. This year’s event includes mini-parks with exciting and engaging features ranging from a pickleball court to a virtual reality simulator of the future Wieuca Road Roundabout to a boho Zen garden. Visitors will be asked to vote for their favorite mini-parks. \nIn addition to the mini-parks\, the Smash Hit Burgers food truck will be on-site for the Buckhead lunchtime crowd. \n2024 Participants \nLivable Buckhead\nLenox Square – Simon\nPOND\nGoode Van Slyke Architecture\nHKS Architectural Firm\nLiveThrive\nAtlanta Housing Authority\nMARTA\nDJ Mike Zarin\nRussell Landscape \n \n \n \n\n\n 
URL:https://livablebuckhead.com/event/parking-day-2024/
LOCATION:Lenox Square\, 3393 Peachtree Road NE\, Atlanta\, GA\, 30326
CATEGORIES:PARK(ing) Day
ATTACH;FMTTYPE=image/jpeg:https://livablebuckhead.com/wp-content/uploads/2024/08/parking-day-web-banner.jpg
ORGANIZER;CN="Livable Buckhead":MAILTO:info@livablebuckhead.org
END:VEVENT
BEGIN:VEVENT
DTSTART;TZID=America/New_York:20240920T074500
DTEND;TZID=America/New_York:20240920T153000
DTSTAMP:20260424T193301
CREATED:20240830T173955Z
LAST-MODIFIED:20240830T174058Z
UID:10002185-1726818300-1726846200@livablebuckhead.com
SUMMARY:VOLUNTEER: Support PARK(ing) Day
DESCRIPTION:Support PARK(ing) Day \n\nDate: Sept. 20 \nTime Slots: Two Time Slots Available: \n\nGroup #1 – 7:45 to 11:45 – Assists with event set up\, event flow\, unloading vehicles\, assists staff where necessary.\nGroup #2 – 11:45 to 3:30 – Assists with event flow\, ballot counting(For best park award)\, clean up\, vehicle loading\, and unloading.\n\nDescription: PARK(ing) Day 2024 will bring together local businesses and community groups transforming standard-sized parking spaces into unique expressions of their respective organizations\, and celebrating the exceptional establishments that make Buckhead a great place to live\, work and play. As a volunteer\, you’ll will gain an understanding of how much space is taken up by cars\, and how our community can be using the space. Volunteers will make a positive impact through activations and engagement with community members. \nEligibility: Ages: 16+ \nPurpose: Helping to ensure the success and safety of Party on the PATH\, while having fun and helping to educate participants about Livable Buckhead’s endeavors. \nRole: Setup / breakdown / check-in / greeting / helping with activities and activations \nVibe: Festive\, interactive and FUN \n\nLocation: Lenox Square (3393 Peachtree Rd NE\, Atlanta\, GA 30326) \nSign up through Hands on Atlanta
URL:https://livablebuckhead.com/event/volunteer-support-parking-day/
LOCATION:Lenox Square\, 3393 Peachtree Road NE\, Atlanta\, GA\, 30326
CATEGORIES:PARK(ing) Day
ATTACH;FMTTYPE=image/jpeg:https://livablebuckhead.com/wp-content/uploads/2024/08/volunteer-banner-scaled.jpg
ORGANIZER;CN="Livable Buckhead":MAILTO:info@livablebuckhead.org
END:VEVENT
BEGIN:VEVENT
DTSTART;TZID=America/New_York:20210917T110000
DTEND;TZID=America/New_York:20210917T140000
DTSTAMP:20260424T193301
CREATED:20210804T142852Z
LAST-MODIFIED:20210804T142853Z
UID:10001895-1631876400-1631887200@livablebuckhead.com
SUMMARY:PARK(ing) Day
DESCRIPTION:On Friday\, September 17th\, from 11 a.m. to 2 p.m.\, 50 parking spaces in the Lenox Square parking lot along Peachtree Road will be transformed into mini-parks as part of PARK(ing) Day. The event also includes activities for the Buckhead lunch time crowd\, including the only time you’ll see food trucks at Lenox Square. Each of the mini-parks will have interactive elements as well\, and visitors will be asked to vote for their favorites. \nPARK(ing) Day is a worldwide event where citizens\, artists\, and activists collaborate to temporarily transform parking spaces usually reserved for cars into temporary public parks or displays of art or community. \nBuckhead has a great opportunity to demonstrate the lack of public park space in the community and emphasize the importance of parks. Livable Buckhead will use PARK(ing) Day to help call attention to the need for more urban open space\, to generate critical debate around how public space is created and allocated\, and to provide a fun opportunity for positive community interaction in an unlikely place: the Lenox Square parking lot!
URL:https://livablebuckhead.com/event/parking-day-3/
LOCATION:Lenox Square\, 3393 Peachtree Road NE\, Atlanta\, GA\, 30326
CATEGORIES:PARK(ing) Day
ATTACH;FMTTYPE=image/png:https://livablebuckhead.com/wp-content/uploads/2021/07/screen-shot-2021-07-29-at-4.22.30-pm.png
ORGANIZER;CN="Livable Buckhead":MAILTO:info@livablebuckhead.org
END:VEVENT
BEGIN:VEVENT
DTSTART;TZID=America/New_York:20210819T170000
DTEND;TZID=America/New_York:20210819T183000
DTSTAMP:20260424T193301
CREATED:20210804T150149Z
LAST-MODIFIED:20210804T150151Z
UID:10001896-1629392400-1629397800@livablebuckhead.com
SUMMARY:Build and Booze: PARK(ing) Day Brainstorm Session
DESCRIPTION:Want to participate in Buckhead’s PARK(ing) Day but not quite sure how to get started or what to do? No problem!\n\nBuilding a 16×8 ft park can be daunting. So\, let’s start with a FREE craft cocktail at ASW Distillery to get that creativity flowing. You and your team will work together to design and plan a temporary parklet with the help of some seasoned PARK(ing) Day veterans.
URL:https://livablebuckhead.com/event/build-and-booze-parking-day-brainstorm-session/
LOCATION:The Stave Room at American Spirit Works\, 199 Armour Dr NE\, Atlanta\, GA\, 30306
CATEGORIES:PARK(ing) Day
ATTACH;FMTTYPE=image/jpeg:https://livablebuckhead.com/wp-content/uploads/2021/08/20180719_125337-scaled.jpg
ORGANIZER;CN="Livable Buckhead":MAILTO:info@livablebuckhead.org
END:VEVENT
BEGIN:VEVENT
DTSTART;TZID=America/New_York:20190927T110000
DTEND;TZID=America/New_York:20190927T140000
DTSTAMP:20260424T193301
CREATED:20190709T180333Z
LAST-MODIFIED:20190912T170940Z
UID:10001213-1569582000-1569592800@livablebuckhead.com
SUMMARY:PARK(ing) Day
DESCRIPTION:On Friday\, September 27th\, from 11 a.m. to 2 p.m.\, 40 parking spaces in the Lenox Square parking lot along Peachtree Road will be transformed into mini-parks as part of PARK(ing) Day. The event also includes activities for the Buckhead lunch time crowd. Each of the mini-parks will have interactive elements as well\, and visitors will be asked to vote for their favorites. \nPARK(ing) Day is a worldwide event where citizens\, artists\, and activists collaborate to temporarily transform parking spaces usually reserved for cars into temporary public parks or displays of art or community. \nBuckhead has a great opportunity to demonstrate the lack of public park space in the community and emphasize the importance of parks. Livable Buckhead will use PARK(ing) Day to help call attention to the need for more urban open space\, to generate critical debate around how public space is created and allocated\, and to provide a fun opportunity for positive community interaction in an unlikely place: the Lenox Square parking lot! \n 
URL:https://livablebuckhead.com/event/parking-day-2/
LOCATION:Lenox Square\, 3393 Peachtree Road NE\, Atlanta\, GA\, 30326
CATEGORIES:PARK(ing) Day
ATTACH;FMTTYPE=image/jpeg:https://livablebuckhead.com/wp-content/uploads/2019/04/20180914_101003.jpg
END:VEVENT
END:VCALENDAR