BEGIN:VCALENDAR
VERSION:2.0
PRODID:-//Livable Buckhead - ECPv6.15.20//NONSGML v1.0//EN
CALSCALE:GREGORIAN
METHOD:PUBLISH
X-ORIGINAL-URL:https://livablebuckhead.com
X-WR-CALDESC:Events for Livable Buckhead
REFRESH-INTERVAL;VALUE=DURATION:PT1H
X-Robots-Tag:noindex
X-PUBLISHED-TTL:PT1H
BEGIN:VTIMEZONE
TZID:America/New_York
BEGIN:DAYLIGHT
TZOFFSETFROM:-0500
TZOFFSETTO:-0400
TZNAME:EDT
DTSTART:20170312T070000
END:DAYLIGHT
BEGIN:STANDARD
TZOFFSETFROM:-0400
TZOFFSETTO:-0500
TZNAME:EST
DTSTART:20171105T060000
END:STANDARD
BEGIN:DAYLIGHT
TZOFFSETFROM:-0500
TZOFFSETTO:-0400
TZNAME:EDT
DTSTART:20180311T070000
END:DAYLIGHT
BEGIN:STANDARD
TZOFFSETFROM:-0400
TZOFFSETTO:-0500
TZNAME:EST
DTSTART:20181104T060000
END:STANDARD
BEGIN:DAYLIGHT
TZOFFSETFROM:-0500
TZOFFSETTO:-0400
TZNAME:EDT
DTSTART:20190310T070000
END:DAYLIGHT
BEGIN:STANDARD
TZOFFSETFROM:-0400
TZOFFSETTO:-0500
TZNAME:EST
DTSTART:20191103T060000
END:STANDARD
BEGIN:DAYLIGHT
TZOFFSETFROM:-0500
TZOFFSETTO:-0400
TZNAME:EDT
DTSTART:20200308T070000
END:DAYLIGHT
BEGIN:STANDARD
TZOFFSETFROM:-0400
TZOFFSETTO:-0500
TZNAME:EST
DTSTART:20201101T060000
END:STANDARD
BEGIN:DAYLIGHT
TZOFFSETFROM:-0500
TZOFFSETTO:-0400
TZNAME:EDT
DTSTART:20210314T070000
END:DAYLIGHT
BEGIN:STANDARD
TZOFFSETFROM:-0400
TZOFFSETTO:-0500
TZNAME:EST
DTSTART:20211107T060000
END:STANDARD
BEGIN:DAYLIGHT
TZOFFSETFROM:-0500
TZOFFSETTO:-0400
TZNAME:EDT
DTSTART:20220313T070000
END:DAYLIGHT
BEGIN:STANDARD
TZOFFSETFROM:-0400
TZOFFSETTO:-0500
TZNAME:EST
DTSTART:20221106T060000
END:STANDARD
BEGIN:DAYLIGHT
TZOFFSETFROM:-0500
TZOFFSETTO:-0400
TZNAME:EDT
DTSTART:20230312T070000
END:DAYLIGHT
BEGIN:STANDARD
TZOFFSETFROM:-0400
TZOFFSETTO:-0500
TZNAME:EST
DTSTART:20231105T060000
END:STANDARD
END:VTIMEZONE
BEGIN:VEVENT
DTSTART;TZID=America/New_York:20220119T120000
DTEND;TZID=America/New_York:20220119T130000
DTSTAMP:20260420T000140
CREATED:20220105T184649Z
LAST-MODIFIED:20220105T190546Z
UID:10001952-1642593600-1642597200@livablebuckhead.com
SUMMARY:Employer Council
DESCRIPTION:Livable Buckhead will kick off 2022’s Employer Council meetings with special guest Melody Echols from Invest Atlanta. Melody will present on the $24.7M in federal American Rescue Plan funds that Invest Atlanta has received to support local businesses. \nAbout Livable Buckhead’s Employer Council: \nBuckhead is a major driver of Atlanta’s and Georgia’s economy generating $2.9 Billion in gross annual retail sales. Buckhead has 23M square feet of commercial office development\, 5\,858 hotel rooms\, an estimated 1\,500 retail outlets\, and over 300 restaurants. While 87\,000 people call Buckhead home\, the daytime population swells to an estimated 140\,000 as workers\, tourists and business people go about their day. Employers play a vital role in the sustainability of the community and Livable Buckhead wants to help them stay informed and committed to the goal of sustainability. \nThe council is open to all Buckhead employers to serve on and provides information vital for Buckhead employers\, serves as networking opportunity\, and meets every other month. \nIf you are interested in joining our Employer Council\, let us know!
URL:https://livablebuckhead.com/event/employer-council-5/
CATEGORIES:Council,Employer Council
ATTACH;FMTTYPE=image/jpeg:https://livablebuckhead.com/wp-content/uploads/2022/01/zoom-meeting-001-scaled.jpg
ORGANIZER;CN="Livable Buckhead":MAILTO:info@livablebuckhead.org
END:VEVENT
BEGIN:VEVENT
DTSTART;TZID=America/New_York:20181212T110000
DTEND;TZID=America/New_York:20181212T123000
DTSTAMP:20260420T000140
CREATED:20181120T171654Z
LAST-MODIFIED:20181210T223642Z
UID:10001331-1544612400-1544617800@livablebuckhead.com
SUMMARY:Residential Property Council
DESCRIPTION:Are you part a residential property team in Buckhead? Is your property ready for Super Bowl in February? The City of Atlanta is expecting to have over a million guests and 10\,000 volunteers for the events leading up to the big game\, which will span 10 days. The Livable Buckhead team\, with help from the Atlanta Police Department\, will be discussing the best ways to keep your residents in the loop for all the events happening in the city\, as well as safety and traffic mitigation.
URL:https://livablebuckhead.com/event/residential-property-council/
LOCATION:SkyHouse Buckhead\, 3390 Stratford Road\, Atlanta\, GA\, 30326\, United States
CATEGORIES:Council,Residential Council
ATTACH;FMTTYPE=image/jpeg:https://livablebuckhead.com/wp-content/uploads/2018/10/commercial-property.jpg
ORGANIZER;CN="Livable Buckhead":MAILTO:info@livablebuckhead.org
END:VEVENT
END:VCALENDAR