BEGIN:VCALENDAR
VERSION:2.0
PRODID:-//Livable Buckhead - ECPv6.15.20//NONSGML v1.0//EN
CALSCALE:GREGORIAN
METHOD:PUBLISH
X-WR-CALNAME:Livable Buckhead
X-ORIGINAL-URL:https://livablebuckhead.com
X-WR-CALDESC:Events for Livable Buckhead
REFRESH-INTERVAL;VALUE=DURATION:PT1H
X-Robots-Tag:noindex
X-PUBLISHED-TTL:PT1H
BEGIN:VTIMEZONE
TZID:America/New_York
BEGIN:DAYLIGHT
TZOFFSETFROM:-0500
TZOFFSETTO:-0400
TZNAME:EDT
DTSTART:20250309T070000
END:DAYLIGHT
BEGIN:STANDARD
TZOFFSETFROM:-0400
TZOFFSETTO:-0500
TZNAME:EST
DTSTART:20251102T060000
END:STANDARD
BEGIN:DAYLIGHT
TZOFFSETFROM:-0500
TZOFFSETTO:-0400
TZNAME:EDT
DTSTART:20260308T070000
END:DAYLIGHT
BEGIN:STANDARD
TZOFFSETFROM:-0400
TZOFFSETTO:-0500
TZNAME:EST
DTSTART:20261101T060000
END:STANDARD
BEGIN:DAYLIGHT
TZOFFSETFROM:-0500
TZOFFSETTO:-0400
TZNAME:EDT
DTSTART:20270314T070000
END:DAYLIGHT
BEGIN:STANDARD
TZOFFSETFROM:-0400
TZOFFSETTO:-0500
TZNAME:EST
DTSTART:20271107T060000
END:STANDARD
END:VTIMEZONE
BEGIN:VEVENT
DTSTART;VALUE=DATE:20260401
DTEND;VALUE=DATE:20260501
DTSTAMP:20260423T020612
CREATED:20260224T155917Z
LAST-MODIFIED:20260224T155918Z
UID:10002489-1775001600-1777593599@livablebuckhead.com
SUMMARY:buckheadWALKS! 2026
DESCRIPTION:April 1–30 \nbuckheadWALKS! is Livable Buckhead’s free\, month-long walking challenge that turns everyday steps into momentum for healthier habits and stronger community connections. Throughout April\, participants are encouraged to walk Buckhead in their own way\, whether that means a quick lunchtime stroll\, walking to events\, exploring PATH400\, or joining guided walks and pop-up activities. Participants earn points by logging walks and checking in at select buckheadWALKS! events and partner activities\, with chances to win prizes for individuals and teams. The program is designed to be flexible\, inclusive\, and easy to fit into daily routines\, making it accessible for all ages and walking levels. \nMeeting location: Anywhere in Buckhead. Walk where and when it works for you.
URL:https://livablebuckhead.com/event/buckheadwalks-2026/
LOCATION:GA
CATEGORIES:buckheadWALKS! 2026
ATTACH;FMTTYPE=image/png:https://livablebuckhead.com/wp-content/uploads/2026/02/buckheadwalks-walker-logo-v2.png
ORGANIZER;CN="Livable Buckhead":MAILTO:info@livablebuckhead.org
END:VEVENT
BEGIN:VEVENT
DTSTART;TZID=America/New_York:20260423T120000
DTEND;TZID=America/New_York:20260423T130000
DTSTAMP:20260423T020612
CREATED:20260224T150334Z
LAST-MODIFIED:20260414T170432Z
UID:10002487-1776945600-1776949200@livablebuckhead.com
SUMMARY:buckheadWALKS! Thursday Lunch Time Stroll
DESCRIPTION:Buckhead Plaza Earth Day Market \nThursday 4/23 | 11:30 AM–2:00 PM \nStop by the Buckhead Plaza Earth Day Market and check in with Livable Buckhead as part of buckheadWALKS!. Participants can earn walking challenge points while enjoying Earth Day programming and local vendors. buckheadWALKS! is a free\, month-long walking challenge that turns everyday movement into momentum for wellness\, sustainability\, and community engagement. A code for a free round trip on the Buc shuttle will be provided. This event is open to the public. \nMeeting location: \n\nBuckhead Plaza\, Livable Buckhead orange tent\nAccessible via walking or the Buc shuttle\n\nRide Free to the Earth Day Market \nMake your trip to the Earth Day Market at One Buckhead Plaza easy with a free roundtrip on The Buc. Use code EARTH26 on April 23 from 11:00 AM to 3:00 PM to travel to and from anywhere within the service zone. Each code includes one free roundtrip and allows you to bring a +1\, making it simple to arrive together without the hassle of driving or parking. Plus\, buckheadWALKS! participants can earn bonus points for attending the event and riding The Buc. Learn more and download the app at bucride.org
URL:https://livablebuckhead.com/event/buckheadwalks-thursday-lunch-time-stroll-3/
LOCATION:Buckhead Plaza Green\, 3060 Peachtree Rd\, Atlanta\, GA\, 30305\, United States
CATEGORIES:buckheadWALKS! 2026
ATTACH;FMTTYPE=image/png:https://livablebuckhead.com/wp-content/uploads/2026/02/buckheadwalks-walker-logo-v2.png
ORGANIZER;CN="Livable Buckhead":MAILTO:info@livablebuckhead.org
END:VEVENT
BEGIN:VEVENT
DTSTART;TZID=America/New_York:20260423T160000
DTEND;TZID=America/New_York:20260423T180000
DTSTAMP:20260423T020612
CREATED:20260410T181250Z
LAST-MODIFIED:20260410T181250Z
UID:10002534-1776960000-1776967200@livablebuckhead.com
SUMMARY:Aperitivo Hour at The Americano
DESCRIPTION:Gather daily at the bar or patio at The Americano for Aperitivo Hour! Featuring vibrant spritzes and cocktails with Campari\, alongside charcuterie boards\, perfect for sharing. Sit outside and people-watch over their drinks like the Pappagallo\, Frizzi Amara\, and more from 4-6 pm. Located inside the InterContinental Buckhead Atlanta Hotel.
URL:https://livablebuckhead.com/event/aperitivo-hour-at-the-americano/2026-04-23/
LOCATION:The Americano at the InterContinental Buckhead Atlanta Hotel\, 3315 Peachtree Rd NE\, Atlanta\, IL\, 30326\, United States
ATTACH;FMTTYPE=image/jpeg:https://livablebuckhead.com/wp-content/uploads/2026/04/aperitivo_4-scaled.jpg
ORGANIZER;CN="Livable Buckhead":MAILTO:info@livablebuckhead.org
END:VEVENT
BEGIN:VEVENT
DTSTART;TZID=America/New_York:20260423T190000
DTEND;TZID=America/New_York:20260423T200000
DTSTAMP:20260423T020612
CREATED:20260415T152801Z
LAST-MODIFIED:20260415T152801Z
UID:10004349-1776970800-1776974400@livablebuckhead.com
SUMMARY:The Herndon Family Legacy: Building Institutions and Men before the Civil Rights Movement
DESCRIPTION:This free Buckhead Heritage Speaker Series program is open to everyone. This talk will explore how the Herndon family’s visionary work in business\, education and community development helped shape the social and economic foundations that later sustained the Civil Rights Movement in Atlanta and beyond. Drawing from archival materials and museum interpretation at the Herndon Home Museum\, Mary Ilonah will highlight how Alonzo\, Adrienne\, Jessie and Norris Herndon’s leadership and philanthropy nurtured generations of Black excellence\, dignity and self-determination.
URL:https://livablebuckhead.com/event/the-herndon-family-legacy-building-institutions-and-men-before-the-civil-rights-movement/
LOCATION:GA
CATEGORIES:Arts and Culture
ATTACH;FMTTYPE=image/png:https://livablebuckhead.com/wp-content/uploads/2026/04/april-23.png
END:VEVENT
END:VCALENDAR