BEGIN:VCALENDAR
VERSION:2.0
PRODID:-//Livable Buckhead - ECPv6.15.20//NONSGML v1.0//EN
CALSCALE:GREGORIAN
METHOD:PUBLISH
X-ORIGINAL-URL:https://livablebuckhead.com
X-WR-CALDESC:Events for Livable Buckhead
REFRESH-INTERVAL;VALUE=DURATION:PT1H
X-Robots-Tag:noindex
X-PUBLISHED-TTL:PT1H
BEGIN:VTIMEZONE
TZID:America/New_York
BEGIN:DAYLIGHT
TZOFFSETFROM:-0500
TZOFFSETTO:-0400
TZNAME:EDT
DTSTART:20250309T070000
END:DAYLIGHT
BEGIN:STANDARD
TZOFFSETFROM:-0400
TZOFFSETTO:-0500
TZNAME:EST
DTSTART:20251102T060000
END:STANDARD
BEGIN:DAYLIGHT
TZOFFSETFROM:-0500
TZOFFSETTO:-0400
TZNAME:EDT
DTSTART:20260308T070000
END:DAYLIGHT
BEGIN:STANDARD
TZOFFSETFROM:-0400
TZOFFSETTO:-0500
TZNAME:EST
DTSTART:20261101T060000
END:STANDARD
BEGIN:DAYLIGHT
TZOFFSETFROM:-0500
TZOFFSETTO:-0400
TZNAME:EDT
DTSTART:20270314T070000
END:DAYLIGHT
BEGIN:STANDARD
TZOFFSETFROM:-0400
TZOFFSETTO:-0500
TZNAME:EST
DTSTART:20271107T060000
END:STANDARD
END:VTIMEZONE
BEGIN:VEVENT
DTSTART;TZID=America/New_York:20260307T083000
DTEND;TZID=America/New_York:20260307T120000
DTSTAMP:20260421T201036
CREATED:20260216T195548Z
LAST-MODIFIED:20260216T195548Z
UID:10002481-1772872200-1772884800@livablebuckhead.com
SUMMARY:Peachtree Road Farmers Market Opening Day - 2026 Season
DESCRIPTION:Join us Saturday\, March 7\, for Opening Day and shop over 70 local vendors\, enjoy live music\, children’s area and more. Lots of new and returning vendors! \nBe sure to set aside time to enjoy the music of Saxophonist Dexter Jones. \n\nOpening Day Blessing by Dean Candler of The Cathedral of St. Philip at 8:30am at the music tent. \nOpening Day’s Chef Pop Up: Celebrity Chef Ed Harris of Knife N Spoon will join us. In addition to a delicious meal\, he’ll also be selling his unique aprons\, cookbooks and specialty spice blends. \nMenu Includes:\n-Rice Stick Noodle Salad with purple cabbage\, Thai basil\, garlic mushrooms\, smoked plant roast w/ a sesame ginger soy\n– Vanilla Coconut Cornbread \nChef Ed is the winner of the Food Network’s CHOPPED “Turbot Powered” Season 4 and Iron Chef International and has been on “Beat Bobby Flay”\, “Chef Wanted” with Anne Burrell\, among other food shows.\nLook for the Big Green Egg Tent. \nSNAP/EBT is accepted and we will double your benefits on fresh fruits and vegetables up to $50 weekly. Stop by the Info booth to learn more. www.wholesomewavegeorgia.org \nSaturdays\, 8:30am – 12pm at The Cathedral of St. Philip 2744 Peachtree Rd. Atlanta\, GA 30305
URL:https://livablebuckhead.com/event/peachtree-road-farmers-market-opening-day-2026-season/
LOCATION:Peachtree Road Farmers Market\, 2744 Peachtree Road\, Atlanta\, GA\, 30305\, United States
CATEGORIES:Community
ATTACH;FMTTYPE=image/png:https://livablebuckhead.com/wp-content/uploads/2026/02/opening-day-2-2026.png
ORGANIZER;CN="Livable Buckhead":MAILTO:info@livablebuckhead.org
END:VEVENT
BEGIN:VEVENT
DTSTART;TZID=America/New_York:20260307T083000
DTEND;TZID=America/New_York:20260307T120000
DTSTAMP:20260421T201036
CREATED:20260303T195051Z
LAST-MODIFIED:20260303T195051Z
UID:10002493-1772872200-1772884800@livablebuckhead.com
SUMMARY:Free Guitar Lesson at the Peachtree Road Farmers Market
DESCRIPTION:Free 5-Minute Guitar Lessons at Market!\n\nWe’re excited to welcome School of Rock Buckhead to our 2026 season opener this Saturday\, March 7. \nFamilies can stop by their booth for a complimentary 5-minute mini guitar sessions for kids ages 5–17 — no experience required.It’s a fun\, hands-on way for young musicians to try something new while exploring the market. \nBe sure to visit them to learn more about their upcoming Rock Band Summer Camps.Learn more: schoolofrock.com/prfm and use discount code PRFM26 for $50 off your summer camp enrollment!
URL:https://livablebuckhead.com/event/free-guitar-lesson-at-the-peachtree-road-farmers-market/
LOCATION:Peachtree Road Farmers Market\, 2744 Peachtree Road\, Atlanta\, GA\, 30305\, United States
CATEGORIES:Community
ATTACH;FMTTYPE=image/jpeg:https://livablebuckhead.com/wp-content/uploads/2026/03/free-guitar-lessons.jpg
ORGANIZER;CN="Livable Buckhead":MAILTO:info@livablebuckhead.org
END:VEVENT
BEGIN:VEVENT
DTSTART;TZID=America/New_York:20260307T093000
DTEND;TZID=America/New_York:20260307T113000
DTSTAMP:20260421T201036
CREATED:20260121T133457Z
LAST-MODIFIED:20260121T133457Z
UID:10002460-1772875800-1772883000@livablebuckhead.com
SUMMARY:PATH400 Pond Clean-Up: Maxine Rock Day of Service 2026
DESCRIPTION:Looking for a way to give back to your community while enjoying the outdoors? Be a part of something impactful at the Maxine Rock Day of Service: Pond Cleanup on PATH400! This rewarding event combines fun\, connection\, and purpose\, offering a chance to protect the environment and honor a community legacy. \nEvent Details \n\nDate: Sat\, March 7\, 2026\nTime: 9:30 – 11:30 AM\nLocation: Peachtree Park Neighborhood Entrance to PATH400 (3399 Peachtree Dr NE\, Atlanta\, GA 30305)\n\nWhen you volunteer\, you’re more than just lending a hand—you’re creating a ripple effect of positive change. Your time and effort directly benefit the community and environment by: \n\nProtecting Natural Habitats: Removing debris keeps our waterways clean\, supporting native wildlife and ecosystems.\nBuilding Community Pride: Working together strengthens bonds with neighbors and fosters a sense of collective responsibility.\nPromoting Sustainability: Small actions\, like clearing litter\, add up to a healthier planet for future generations.\n\nIn the past\, volunteers have collected hundreds of pounds of trash from this sensitive detention pond area. Your participation ensures continued progress toward a greener\, cleaner Buckhead. We’ll be removing trash from the pond and clearing the surrounding area to create a healthier environment. No prior experience is necessary—just come ready to make a difference! \nWhat to Bring: \n\nClothing: Wear clothes that can get dirty and closed-toed shoes. Waders will be provided for those entering the pond.\nWater Bottle: Stay hydrated with your reusable water bottle.\nOptional Kayak: If you’re an experienced kayaker\, bring your equipment to help clean trash from the pond’s interior. Let us know in advance to coordinate!\n\nFree parking is available along neighborhood streets near PATH400. Please avoid blocking driveways. The Lenox MARTA station is a short walk from the event site for those using public transit. \nMaxine Rock dedicated her life to environmental advocacy and community improvement. From co-founding the North Buckhead Civic Association to playing a key role in establishing the PATH Foundation\, Maxine’s vision has left a lasting mark. A stone plaza overlooking the pond honors her contributions\, and this day of service continues her legacy of environmental stewardship. \nJoin us in celebrating her impact while making your own. Together\, we can ensure PATH400 remains a beautiful and sustainable community asset.
URL:https://livablebuckhead.com/event/path400-pond-clean-up-maxine-rock-day-of-service-2026/
LOCATION:3399 Peachtree Dr NE (3399 Peachtree Dr NE\, Atlanta\, Georgia 30305)\, 3399 Peachtree Dr NE\, Atlanta\, GA\, 30305
CATEGORIES:PATH400,Sustainability Committee,Volunteer
ATTACH;FMTTYPE=image/jpeg:https://livablebuckhead.com/wp-content/uploads/2026/01/img_3360-scaled.jpeg
ORGANIZER;CN="Livable Buckhead":MAILTO:info@livablebuckhead.org
END:VEVENT
END:VCALENDAR