BEGIN:VCALENDAR
VERSION:2.0
PRODID:-//Livable Buckhead - ECPv6.15.20//NONSGML v1.0//EN
CALSCALE:GREGORIAN
METHOD:PUBLISH
X-ORIGINAL-URL:https://livablebuckhead.com
X-WR-CALDESC:Events for Livable Buckhead
REFRESH-INTERVAL;VALUE=DURATION:PT1H
X-Robots-Tag:noindex
X-PUBLISHED-TTL:PT1H
BEGIN:VTIMEZONE
TZID:America/New_York
BEGIN:DAYLIGHT
TZOFFSETFROM:-0500
TZOFFSETTO:-0400
TZNAME:EDT
DTSTART:20250309T070000
END:DAYLIGHT
BEGIN:STANDARD
TZOFFSETFROM:-0400
TZOFFSETTO:-0500
TZNAME:EST
DTSTART:20251102T060000
END:STANDARD
BEGIN:DAYLIGHT
TZOFFSETFROM:-0500
TZOFFSETTO:-0400
TZNAME:EDT
DTSTART:20260308T070000
END:DAYLIGHT
BEGIN:STANDARD
TZOFFSETFROM:-0400
TZOFFSETTO:-0500
TZNAME:EST
DTSTART:20261101T060000
END:STANDARD
BEGIN:DAYLIGHT
TZOFFSETFROM:-0500
TZOFFSETTO:-0400
TZNAME:EDT
DTSTART:20270314T070000
END:DAYLIGHT
BEGIN:STANDARD
TZOFFSETFROM:-0400
TZOFFSETTO:-0500
TZNAME:EST
DTSTART:20271107T060000
END:STANDARD
END:VTIMEZONE
BEGIN:VEVENT
DTSTART;TZID=America/New_York:20260214T170000
DTEND;TZID=America/New_York:20260214T213000
DTSTAMP:20260425T001224
CREATED:20260206T223215Z
LAST-MODIFIED:20260206T223215Z
UID:10002469-1771088400-1771104600@livablebuckhead.com
SUMMARY:Valentine's Day at The Betty
DESCRIPTION:Celebrate Valentine’s Day with an elegant evening at The Betty\, featuring Chef Swift’s swoon-worthy 3-course dinner menu. In addition to our decadent dishes\, our bar team has created specialty cocktails for the occasion. Our prix-fixe menu will be available exclusively on February 14th at $115 per person.
URL:https://livablebuckhead.com/event/valentines-day-at-the-betty/
LOCATION:The Betty\, 374 E Paces Ferry Rd NE\, Atlanta\, GA\, Atlanta\, GA\, 30305\, United States
CATEGORIES:Community
ATTACH;FMTTYPE=image/jpeg:https://livablebuckhead.com/wp-content/uploads/2026/02/2024-02-20_lifestyle_the-betty_2918-scaled.jpg
END:VEVENT
BEGIN:VEVENT
DTSTART;TZID=America/New_York:20260214T173000
DTEND;TZID=America/New_York:20260214T220000
DTSTAMP:20260425T001224
CREATED:20260203T161014Z
LAST-MODIFIED:20260203T161014Z
UID:10002464-1771090200-1771106400@livablebuckhead.com
SUMMARY:The Americano’s Valentine’s Day Special
DESCRIPTION:Looking for the best Atlanta Valentine’s Day specials? Look no further than The Americano’s holiday menu\, available on Valentine’s Day only. With the regular menu still available along with the V-Day menu\, this is the elevated date night for diners looking to feel luxe this holiday season. \n  \nValentine’s Special Menu: \n\nTuna Crudo–served with blood orange and pistachio\, the perfect blend of savory\, citrus and nutty flavors.\nFilet– served “Oscar Style” with asparagus and light\, creamy lemon sabayon sauce.\nSoft Serve for Two–Creamy soft serve with an assortment of toppings\, designed for sharing (don’t be afraid to ask for more sprinkles). \n\nReservations can be made on OpenTable.
URL:https://livablebuckhead.com/event/the-americanos-valentines-day-special/
LOCATION:The Americano at the InterContinental Buckhead Atlanta Hotel\, 3315 Peachtree Rd NE\, Atlanta\, IL\, 30326\, United States
ATTACH;FMTTYPE=image/jpeg:https://livablebuckhead.com/wp-content/uploads/2026/01/will-pryce-cf160420-flx-web-scaled.jpg
END:VEVENT
END:VCALENDAR