BEGIN:VCALENDAR
VERSION:2.0
PRODID:-//Livable Buckhead - ECPv6.15.20//NONSGML v1.0//EN
CALSCALE:GREGORIAN
METHOD:PUBLISH
X-WR-CALNAME:Livable Buckhead
X-ORIGINAL-URL:https://livablebuckhead.com
X-WR-CALDESC:Events for Livable Buckhead
REFRESH-INTERVAL;VALUE=DURATION:PT1H
X-Robots-Tag:noindex
X-PUBLISHED-TTL:PT1H
BEGIN:VTIMEZONE
TZID:America/New_York
BEGIN:DAYLIGHT
TZOFFSETFROM:-0500
TZOFFSETTO:-0400
TZNAME:EDT
DTSTART:20250309T070000
END:DAYLIGHT
BEGIN:STANDARD
TZOFFSETFROM:-0400
TZOFFSETTO:-0500
TZNAME:EST
DTSTART:20251102T060000
END:STANDARD
BEGIN:DAYLIGHT
TZOFFSETFROM:-0500
TZOFFSETTO:-0400
TZNAME:EDT
DTSTART:20260308T070000
END:DAYLIGHT
BEGIN:STANDARD
TZOFFSETFROM:-0400
TZOFFSETTO:-0500
TZNAME:EST
DTSTART:20261101T060000
END:STANDARD
BEGIN:DAYLIGHT
TZOFFSETFROM:-0500
TZOFFSETTO:-0400
TZNAME:EDT
DTSTART:20270314T070000
END:DAYLIGHT
BEGIN:STANDARD
TZOFFSETFROM:-0400
TZOFFSETTO:-0500
TZNAME:EST
DTSTART:20271107T060000
END:STANDARD
END:VTIMEZONE
BEGIN:VEVENT
DTSTART;TZID=America/New_York:20260211T180000
DTEND;TZID=America/New_York:20260211T190000
DTSTAMP:20260425T001114
CREATED:20260128T163128Z
LAST-MODIFIED:20260128T163128Z
UID:10002463-1770832800-1770836400@livablebuckhead.com
SUMMARY:Go Georgia's Bike/Ped Friendly Driver Webinar
DESCRIPTION:Join us virtually for our next Bike-/Ped-Friendly Driver webinar on Wednesday\, February 11\, 2026\, from 6:00 – 7:00 PM! This webinar occurs on the second Wednesday of every other month.
URL:https://livablebuckhead.com/event/go-georgias-bike-ped-friendly-driver-webinar/
LOCATION:GA
ATTACH;FMTTYPE=image/png:https://livablebuckhead.com/wp-content/uploads/2026/01/f99b100f-0d53-2d59-6bb3-ba1f90213871.png
END:VEVENT
END:VCALENDAR