BEGIN:VCALENDAR
VERSION:2.0
PRODID:-//Livable Buckhead - ECPv6.15.20//NONSGML v1.0//EN
CALSCALE:GREGORIAN
METHOD:PUBLISH
X-ORIGINAL-URL:https://livablebuckhead.com
X-WR-CALDESC:Events for Livable Buckhead
REFRESH-INTERVAL;VALUE=DURATION:PT1H
X-Robots-Tag:noindex
X-PUBLISHED-TTL:PT1H
BEGIN:VTIMEZONE
TZID:America/New_York
BEGIN:DAYLIGHT
TZOFFSETFROM:-0500
TZOFFSETTO:-0400
TZNAME:EDT
DTSTART:20250309T070000
END:DAYLIGHT
BEGIN:STANDARD
TZOFFSETFROM:-0400
TZOFFSETTO:-0500
TZNAME:EST
DTSTART:20251102T060000
END:STANDARD
BEGIN:DAYLIGHT
TZOFFSETFROM:-0500
TZOFFSETTO:-0400
TZNAME:EDT
DTSTART:20260308T070000
END:DAYLIGHT
BEGIN:STANDARD
TZOFFSETFROM:-0400
TZOFFSETTO:-0500
TZNAME:EST
DTSTART:20261101T060000
END:STANDARD
BEGIN:DAYLIGHT
TZOFFSETFROM:-0500
TZOFFSETTO:-0400
TZNAME:EDT
DTSTART:20270314T070000
END:DAYLIGHT
BEGIN:STANDARD
TZOFFSETFROM:-0400
TZOFFSETTO:-0500
TZNAME:EST
DTSTART:20271107T060000
END:STANDARD
END:VTIMEZONE
BEGIN:VEVENT
DTSTART;TZID=America/New_York:20260207T140000
DTEND;TZID=America/New_York:20260207T180000
DTSTAMP:20260424T135513
CREATED:20260203T160949Z
LAST-MODIFIED:20260203T160949Z
UID:10002465-1770472800-1770487200@livablebuckhead.com
SUMMARY:Galentine’s Charcuterie Class at The Betty
DESCRIPTION:This Galentine’s Day\, raise a glass and build something beautiful—together! Gather your besties and join us at The Betty for an exclusive Charcuterie-Making Class filled with cheese\, creativity\, and cocktails. \nIn this 1–2 hour interactive experience\, you’ll learn how to craft the ultimate charcuterie board—the kind of spread that deserves its own spotlight. Join us on Saturday\, February 7\, with two sessions available at 2:00 PM and 4:00 PM. \nTogether\, we’ll explore:\n– The secrets to arranging cheese and charcuterie like a pro\n– Why balance\, pairing\, and presentation matter\n– How to style and fold ingredients for that perfect\, photo-worthy finish \nWe’ll provide all the premium cheeses\, cured meats\, fresh accompaniments\, boards\, and utensils you need. By the end of the class\, you’ll leave with your own beautiful\, medium-sized charcuterie board to enjoy with your crew—or keep all to yourself. \nAs a bonus\, sip on our specialty Valentine’s Day cocktails while you craft your masterpiece\, and snap some photos at our festive photo op wall in the Willow Garden to capture the fun. \nCost: $60 per person \nWhat’s included:\n– Hands-on charcuterie-making class\n– Valentine’s Day-themed cocktails\n– Decorative photo op in the Willow Garden\n– Your own finished charcuterie board to take home
URL:https://livablebuckhead.com/event/galentines-charcuterie-class-at-the-betty/
LOCATION:The Kimpton Sylvan\, 374 East Paces Ferry Rd NE\, Atlanta\, GA\, 30305
ATTACH;FMTTYPE=image/png:https://livablebuckhead.com/wp-content/uploads/2026/02/screenshot-2026-02-03-at-9.46.40-am.png
END:VEVENT
END:VCALENDAR