BEGIN:VCALENDAR
VERSION:2.0
PRODID:-//Livable Buckhead - ECPv6.15.20//NONSGML v1.0//EN
CALSCALE:GREGORIAN
METHOD:PUBLISH
X-ORIGINAL-URL:https://livablebuckhead.com
X-WR-CALDESC:Events for Livable Buckhead
REFRESH-INTERVAL;VALUE=DURATION:PT1H
X-Robots-Tag:noindex
X-PUBLISHED-TTL:PT1H
BEGIN:VTIMEZONE
TZID:America/New_York
BEGIN:DAYLIGHT
TZOFFSETFROM:-0500
TZOFFSETTO:-0400
TZNAME:EDT
DTSTART:20240310T070000
END:DAYLIGHT
BEGIN:STANDARD
TZOFFSETFROM:-0400
TZOFFSETTO:-0500
TZNAME:EST
DTSTART:20241103T060000
END:STANDARD
BEGIN:DAYLIGHT
TZOFFSETFROM:-0500
TZOFFSETTO:-0400
TZNAME:EDT
DTSTART:20250309T070000
END:DAYLIGHT
BEGIN:STANDARD
TZOFFSETFROM:-0400
TZOFFSETTO:-0500
TZNAME:EST
DTSTART:20251102T060000
END:STANDARD
BEGIN:DAYLIGHT
TZOFFSETFROM:-0500
TZOFFSETTO:-0400
TZNAME:EDT
DTSTART:20260308T070000
END:DAYLIGHT
BEGIN:STANDARD
TZOFFSETFROM:-0400
TZOFFSETTO:-0500
TZNAME:EST
DTSTART:20261101T060000
END:STANDARD
BEGIN:DAYLIGHT
TZOFFSETFROM:-0500
TZOFFSETTO:-0400
TZNAME:EDT
DTSTART:20270314T070000
END:DAYLIGHT
BEGIN:STANDARD
TZOFFSETFROM:-0400
TZOFFSETTO:-0500
TZNAME:EST
DTSTART:20271107T060000
END:STANDARD
END:VTIMEZONE
BEGIN:VEVENT
DTSTART;VALUE=DATE:20251106
DTEND;VALUE=DATE:20260101
DTSTAMP:20260422T014231
CREATED:20251110T141015Z
LAST-MODIFIED:20251110T141015Z
UID:10002323-1762387200-1767225599@livablebuckhead.com
SUMMARY:The Tess Treatment at The Tess
DESCRIPTION:Atlanta’s new boutique hotel\, The Tess\, located in the heart of Buckhead\, is celebrating its namesake through the end of the year with an exclusive offer: The Tess Treatment. Anyone with the name Tess – whether it be first\, middle or last name – will be gifted a free night stay at the property\, with the purchase of a two-night stay.  \nInspired by the hotel’s fictional muse\, “Tess\,” a worldly\, gracious\, and effortlessly magnetic figure whose stories span Paris salons to Kyoto gardens\, the property captures her sophisticated spirit throughout its 201 guestrooms\, signature rooftop restaurant\, and rooftop pool.  \nTo redeem\, guests can reach out to hello@thetess.com and provide proof of legal name within 48 hours of booking. Terms and conditions apply. 
URL:https://livablebuckhead.com/event/the-tess-treatment-at-the-tess/
LOCATION:GA
ATTACH;FMTTYPE=image/png:https://livablebuckhead.com/wp-content/uploads/2025/11/screenshot-2025-11-06-at-10.40.34-am.png
ORGANIZER;CN="The Tess":MAILTO:peyton@go-pr.com
END:VEVENT
BEGIN:VEVENT
DTSTART;TZID=America/New_York:20251121T150000
DTEND;TZID=America/New_York:20260131T180000
DTSTAMP:20260422T014231
CREATED:20251201T170155Z
LAST-MODIFIED:20251201T170155Z
UID:10002367-1763737200-1769882400@livablebuckhead.com
SUMMARY:Hot Chocolate Bar Holiday Pop-Up
DESCRIPTION:The Americano’s Hot Chocolate Bar begins November 21\, where guests can enjoy hand-crafted hot chocolate flavors from their Beverage Director Katie Bellinger. The menu will include both fun chocolate flavors for all ages and signature espresso martini flavors to elevate any meal this holiday season! The hot chocolate bar will be available every Friday and Saturday in the restaurant from 3 pm to 6 pm through January 31st. Special Christmas hours will be from 1 pm to 5 pm \nSignature Cocoa Creations \n\n   Bourbon Midnight Velvet – Classic Dark Chocolate with Jefferson Reserve\n   Silk & Berries Cocoa – Milk Chocolate with Mozart or Chambord\n   Nutcracker Nightcap – White Chocolate with vanilla macadamia or hazelnut\n   North Pole Frost – Peppermint Cocoa with Bailey’s\n   Mocha Hearthside – Espresso-kissed Mocha with Espelette or pecan\n\nArtisanal Toppings \nWhipped cream (classic or peppermint)\, crushed candy canes\, chocolate curls\, sea salt\, caramel\, toasted marshmallows\, cinnamon sticks\, shaved nutmeg\, chocolate-covered espresso beans\, orange zest\, toasted coconut\, and chocolate chip peppermint cookies.
URL:https://livablebuckhead.com/event/hot-chocolate-bar-holiday-pop-up/
LOCATION:The Americano at the InterContinental Buckhead Atlanta Hotel\, 3315 Peachtree Rd NE\, Atlanta\, IL\, 30326\, United States
ATTACH;FMTTYPE=image/png:https://livablebuckhead.com/wp-content/uploads/2025/12/santa-cropped-scaled.png
ORGANIZER;CN="Livable Buckhead":MAILTO:info@livablebuckhead.org
END:VEVENT
END:VCALENDAR