BEGIN:VCALENDAR
VERSION:2.0
PRODID:-//Livable Buckhead - ECPv6.15.20//NONSGML v1.0//EN
CALSCALE:GREGORIAN
METHOD:PUBLISH
X-ORIGINAL-URL:https://livablebuckhead.com
X-WR-CALDESC:Events for Livable Buckhead
REFRESH-INTERVAL;VALUE=DURATION:PT1H
X-Robots-Tag:noindex
X-PUBLISHED-TTL:PT1H
BEGIN:VTIMEZONE
TZID:America/New_York
BEGIN:DAYLIGHT
TZOFFSETFROM:-0500
TZOFFSETTO:-0400
TZNAME:EDT
DTSTART:20240310T070000
END:DAYLIGHT
BEGIN:STANDARD
TZOFFSETFROM:-0400
TZOFFSETTO:-0500
TZNAME:EST
DTSTART:20241103T060000
END:STANDARD
BEGIN:DAYLIGHT
TZOFFSETFROM:-0500
TZOFFSETTO:-0400
TZNAME:EDT
DTSTART:20250309T070000
END:DAYLIGHT
BEGIN:STANDARD
TZOFFSETFROM:-0400
TZOFFSETTO:-0500
TZNAME:EST
DTSTART:20251102T060000
END:STANDARD
BEGIN:DAYLIGHT
TZOFFSETFROM:-0500
TZOFFSETTO:-0400
TZNAME:EDT
DTSTART:20260308T070000
END:DAYLIGHT
BEGIN:STANDARD
TZOFFSETFROM:-0400
TZOFFSETTO:-0500
TZNAME:EST
DTSTART:20261101T060000
END:STANDARD
END:VTIMEZONE
BEGIN:VEVENT
DTSTART;TZID=America/New_York:20250714T170000
DTEND;TZID=America/New_York:20250714T210000
DTSTAMP:20260421T191711
CREATED:20250708T202330Z
LAST-MODIFIED:20250708T202330Z
UID:10002253-1752512400-1752526800@livablebuckhead.com
SUMMARY:Bistro Niko’s Bastille Day
DESCRIPTION:Vive la France! On July 14\, Bistro Niko invites Atlanta to celebrate Bastille Day\, France’s national holiday marking the birth of liberty\, and French pride\, with an evening inspired by the joie de vivre of Paris. \nThe Bastille Day celebration will feature a delicious spread of passed hors d’oeuvres like mini croque monsieur\, burger sliders\, savory tartes\, gougères\, and tuna tartare\, alongside beverage stations pouring favorites from St-Germain\, Belvedere\, and Veuve Clicquot. Starting at 5:00 PM\, guests can enjoy the live entertainment\, festive ambiance\, and a taste of France—right here in Buckhead. \nTickets are $55 per person and can be purchased online.
URL:https://livablebuckhead.com/event/bistro-nikos-bastille-day/
LOCATION:Bistro Niko\, 3344 Peachtree Road NE\, Atlanta\, GA\, 30326\, United States
CATEGORIES:Summer Event Series
ATTACH;FMTTYPE=image/png:https://livablebuckhead.com/wp-content/uploads/2025/07/77940756.png
ORGANIZER;CN="Buckhead Life Restaurant Group":MAILTO:dish@buckheadrestaurants.com
END:VEVENT
END:VCALENDAR