BEGIN:VCALENDAR
VERSION:2.0
PRODID:-//Livable Buckhead - ECPv6.15.20//NONSGML v1.0//EN
CALSCALE:GREGORIAN
METHOD:PUBLISH
X-WR-CALNAME:Livable Buckhead
X-ORIGINAL-URL:https://livablebuckhead.com
X-WR-CALDESC:Events for Livable Buckhead
REFRESH-INTERVAL;VALUE=DURATION:PT1H
X-Robots-Tag:noindex
X-PUBLISHED-TTL:PT1H
BEGIN:VTIMEZONE
TZID:America/New_York
BEGIN:DAYLIGHT
TZOFFSETFROM:-0500
TZOFFSETTO:-0400
TZNAME:EDT
DTSTART:20230312T070000
END:DAYLIGHT
BEGIN:STANDARD
TZOFFSETFROM:-0400
TZOFFSETTO:-0500
TZNAME:EST
DTSTART:20231105T060000
END:STANDARD
BEGIN:DAYLIGHT
TZOFFSETFROM:-0500
TZOFFSETTO:-0400
TZNAME:EDT
DTSTART:20240310T070000
END:DAYLIGHT
BEGIN:STANDARD
TZOFFSETFROM:-0400
TZOFFSETTO:-0500
TZNAME:EST
DTSTART:20241103T060000
END:STANDARD
BEGIN:DAYLIGHT
TZOFFSETFROM:-0500
TZOFFSETTO:-0400
TZNAME:EDT
DTSTART:20250309T070000
END:DAYLIGHT
BEGIN:STANDARD
TZOFFSETFROM:-0400
TZOFFSETTO:-0500
TZNAME:EST
DTSTART:20251102T060000
END:STANDARD
END:VTIMEZONE
BEGIN:VEVENT
DTSTART;TZID=America/New_York:20240927T180000
DTEND;TZID=America/New_York:20240927T220000
DTSTAMP:20260421T172236
CREATED:20240813T135709Z
LAST-MODIFIED:20240813T140002Z
UID:10002170-1727460000-1727474400@livablebuckhead.com
SUMMARY:ARTE AGAVE ATL
DESCRIPTION:Arte Agave is a unique celebración of fine agave spirits + arts + entertainment. \nFriday\, September 27th 2024 | 6-10pm \nThe Kimpton Sylvan Hotel | 374 East Paces Ferry Rd NE\, Atlanta\, GA 30305 \nA BEBER \nOver 25 Estaciónes de Sabor with more than 135 varieties of Agave spirits to sample. \n\nSpecial expressions during VIP Hour including Ilegal Mezcal’s 7 Years Old Añejo French Oak Limited Release\, Inspiro Tequila’s Rosa Reposado\, Bourbon Barrel Aged Reposado with Aged Agave from Tequila Los Hermanos\, Mijenta Tequila’s Gran Reserva Añejo and more!\n\nHacer + Probar (Make + Taste) – learn the art of making agave inspired cocktails. \n\nSip on the refreshing Altos Tequila Paloma highlighting the vibrant flavors of Mexico\nEnjoy a Create Your Own Spicy Margarita experience with Fiero Tequila! Choose to dial up the heat with serrano or habanero tequila and then balance the spice with agave nectar and fruit options\nUnleash your creativity with Pick Your Kick Cocktails! Start with a Tanteo Tequila base and choose to kick it up a notch with their selection of unique and exciting flavors\n\n¡A GOZAR! \nChance to WIN a bottle of your favorite agave spirits! \nTraditional Baile Folklórico performance by Alma Mexicana Atlanta \nPhoto Booth to capture all the fun! Sponsored by Mezcal Vago y Tequila Ocho \nExclusive Artisan Market Featuring: \n\nB.M. Franklin & Co.\nSpanglish Boutique\nSmoke & Serve\n\nTraditional Musica from Los Mariachis! \nBeats by DJ Lunee and DJ Venom \nA COMER \nTraditional light bites from local culinary leaders: \n\nDive into a burst of fresh flavors with The Betty’s Shrimp and Avocado Nachos\nDon’t miss Chef Don Carne’s refreshing and vibrant Tacos\nTry Fresh Quesatacos featuring Birria-Style shredded Beef and tender shredded Chicken being served up by El Calentano\nExplore Crispy Blueberry Chicken served alongside flavorful Blue Corn Arepas and a tantalizing Tequila Glaze from Gourmet Street Foods with an expertly crafted Tequila cocktail pairing\nChoose from sizzling Fajita Tacos\, savory Pastor Tacos\, or rich and comforting Birria Tacos by local favorites Villanos Tacos
URL:https://livablebuckhead.com/event/arte-agave-atl/
LOCATION:The Kimpton Sylvan\, 374 East Paces Ferry Rd NE\, Atlanta\, GA\, 30305
END:VEVENT
END:VCALENDAR