BEGIN:VCALENDAR
VERSION:2.0
PRODID:-//Livable Buckhead - ECPv6.15.20//NONSGML v1.0//EN
CALSCALE:GREGORIAN
METHOD:PUBLISH
X-WR-CALNAME:Livable Buckhead
X-ORIGINAL-URL:https://livablebuckhead.com
X-WR-CALDESC:Events for Livable Buckhead
REFRESH-INTERVAL;VALUE=DURATION:PT1H
X-Robots-Tag:noindex
X-PUBLISHED-TTL:PT1H
BEGIN:VTIMEZONE
TZID:America/New_York
BEGIN:DAYLIGHT
TZOFFSETFROM:-0500
TZOFFSETTO:-0400
TZNAME:EDT
DTSTART:20180311T070000
END:DAYLIGHT
BEGIN:STANDARD
TZOFFSETFROM:-0400
TZOFFSETTO:-0500
TZNAME:EST
DTSTART:20181104T060000
END:STANDARD
BEGIN:DAYLIGHT
TZOFFSETFROM:-0500
TZOFFSETTO:-0400
TZNAME:EDT
DTSTART:20190310T070000
END:DAYLIGHT
BEGIN:STANDARD
TZOFFSETFROM:-0400
TZOFFSETTO:-0500
TZNAME:EST
DTSTART:20191103T060000
END:STANDARD
BEGIN:DAYLIGHT
TZOFFSETFROM:-0500
TZOFFSETTO:-0400
TZNAME:EDT
DTSTART:20200308T070000
END:DAYLIGHT
BEGIN:STANDARD
TZOFFSETFROM:-0400
TZOFFSETTO:-0500
TZNAME:EST
DTSTART:20201101T060000
END:STANDARD
END:VTIMEZONE
BEGIN:VEVENT
DTSTART;TZID=America/New_York:20190930T120000
DTEND;TZID=America/New_York:20190930T130000
DTSTAMP:20260421T204648
CREATED:20190918T181713Z
LAST-MODIFIED:20190919T144219Z
UID:10001223-1569844800-1569848400@livablebuckhead.com
SUMMARY:HACK YOUR COMMUTE LUNCH-N-LEARN - One Alliance Center
DESCRIPTION:If you bike to work in Atlanta\, you may be interested in seeing more of your colleagues commute to work by bicycle and other transit options. Maybe you’re hearing coworkers talk about wanting to get to and from work more happily and healthfully than sitting in a car. \nIt’s time to make some changes to the same old routine. Get your body moving\, take a break from driving to work\, and immerse yourself into Atlanta’s creative and growing commuting culture. \nIt’s time to invite commuting experts from the Atlanta Bicycle Coalition to come to your workplace and facilitate an engaging hour-long\, activity-based event — completely FREE to you. \nYou’ll learn tips on commuting by bicycle and other means\, how to plan a route\, where to take classes on how to safely negotiate city roadways\, how to combine MARTA with bicycling\, your rights to our public roadways and other street rules\, and where to go to hang out with other folks who bike for fun\, for transportation\, for health\, or for social connectivity. \nThis event will be at One Alliance Center in the One Alliance Conference Center / Suite 600\, please RSVP.  \nThis event is brought to you by Livable Buckhead\, Highwoods\, Atlanta Bicycle Campaign and Georgia Commute Options.
URL:https://livablebuckhead.com/event/hack-your-commute-lunch-n-learn-one-alliance-center/
LOCATION:One Alliance Center\, 3500 Lenox Road\, Atlanta\, GA\, 30326
CATEGORIES:Biketober
ATTACH;FMTTYPE=image/jpeg:https://livablebuckhead.com/wp-content/uploads/2019/09/path400-bike-banner2-scaled.jpg
ORGANIZER;CN="Livable Buckhead":MAILTO:info@livablebuckhead.org
END:VEVENT
END:VCALENDAR